BEGIN:VCALENDAR
VERSION:2.0
PRODID:-//Diocese of Alexandria - ECPv6.5.1.5//NONSGML v1.0//EN
CALSCALE:GREGORIAN
METHOD:PUBLISH
X-ORIGINAL-URL:https://www.diocesealex.org/old
X-WR-CALDESC:Events for Diocese of Alexandria
REFRESH-INTERVAL;VALUE=DURATION:PT1H
X-Robots-Tag:noindex
X-PUBLISHED-TTL:PT1H
BEGIN:VTIMEZONE
TZID:America/Chicago
BEGIN:DAYLIGHT
TZOFFSETFROM:-0600
TZOFFSETTO:-0500
TZNAME:CDT
DTSTART:20180311T080000
END:DAYLIGHT
BEGIN:STANDARD
TZOFFSETFROM:-0500
TZOFFSETTO:-0600
TZNAME:CST
DTSTART:20181104T070000
END:STANDARD
END:VTIMEZONE
BEGIN:VEVENT
DTSTART;TZID=America/Chicago:20180809T180000
DTEND;TZID=America/Chicago:20180809T200000
DTSTAMP:20260425T061621
CREATED:20180724T192235Z
LAST-MODIFIED:20180724T192235Z
UID:10000162-1533837600-1533844800@www.diocesealex.org
SUMMARY:Open House\, St. Mary's School\, Natchitoches
DESCRIPTION:St. Mary’s School\, Natchitoches\n\nAugust 9\, 6:00 p.m. (7th-12th Grade)
URL:https://www.diocesealex.org/old/event/open-house-st-marys-school-natchitoches/
LOCATION:St. Mary’s School\, 1101 East 5th St.\, Natchitoches\, 71457\, United States
CATEGORIES:Schools
GEO:31.7697938;-93.0769042
X-APPLE-STRUCTURED-LOCATION;VALUE=URI;X-ADDRESS=St. Mary’s School 1101 East 5th St. Natchitoches 71457 United States;X-APPLE-RADIUS=500;X-TITLE=1101 East 5th St.:geo:-93.0769042,31.7697938
END:VEVENT
BEGIN:VEVENT
DTSTART;TZID=America/Chicago:20180808T180000
DTEND;TZID=America/Chicago:20180808T190000
DTSTAMP:20260425T061621
CREATED:20180724T191616Z
LAST-MODIFIED:20180724T192140Z
UID:10000161-1533751200-1533754800@www.diocesealex.org
SUMMARY:Open House\, St. Mary's School\, Natchitoches
DESCRIPTION:St. Mary’s School\, Natchitoches\nAugust 8\, 6:00 p.m. (Pre3-6th Grade)\nAugust 9\, 6:00 p.m. (7th-12th Grade)
URL:https://www.diocesealex.org/old/event/open-house-2/
LOCATION:St. Mary’s School\, 1101 East 5th St.\, Natchitoches\, 71457\, United States
CATEGORIES:Schools
GEO:31.7697938;-93.0769042
X-APPLE-STRUCTURED-LOCATION;VALUE=URI;X-ADDRESS=St. Mary’s School 1101 East 5th St. Natchitoches 71457 United States;X-APPLE-RADIUS=500;X-TITLE=1101 East 5th St.:geo:-93.0769042,31.7697938
END:VEVENT
END:VCALENDAR