BEGIN:VCALENDAR
VERSION:2.0
PRODID:-//Diocese of Alexandria - ECPv6.5.1.5//NONSGML v1.0//EN
CALSCALE:GREGORIAN
METHOD:PUBLISH
X-WR-CALNAME:Diocese of Alexandria
X-ORIGINAL-URL:https://www.diocesealex.org/old
X-WR-CALDESC:Events for Diocese of Alexandria
REFRESH-INTERVAL;VALUE=DURATION:PT1H
X-Robots-Tag:noindex
X-PUBLISHED-TTL:PT1H
BEGIN:VTIMEZONE
TZID:America/Chicago
BEGIN:DAYLIGHT
TZOFFSETFROM:-0600
TZOFFSETTO:-0500
TZNAME:CDT
DTSTART:20230312T080000
END:DAYLIGHT
BEGIN:STANDARD
TZOFFSETFROM:-0500
TZOFFSETTO:-0600
TZNAME:CST
DTSTART:20231105T070000
END:STANDARD
END:VTIMEZONE
BEGIN:VEVENT
DTSTART;TZID=America/Chicago:20230317T070000
DTEND;TZID=America/Chicago:20230317T073000
DTSTAMP:20260425T215949
CREATED:20230308T201340Z
LAST-MODIFIED:20230308T201340Z
UID:10002400-1679036400-1679038200@www.diocesealex.org
SUMMARY:Breakfast
DESCRIPTION:Today’s choices for breakfast include: Choice of cereal\, peaches\, choice of milk.
URL:https://www.diocesealex.org/old/event/breakfast-727/
LOCATION:LA\, United States
CATEGORIES:Schools
GEO:30.9842977;-91.9623327
END:VEVENT
BEGIN:VEVENT
DTSTART;TZID=America/Chicago:20230316T110000
DTEND;TZID=America/Chicago:20230316T130000
DTSTAMP:20260425T215949
CREATED:20230308T205504Z
LAST-MODIFIED:20230308T205504Z
UID:10002433-1678964400-1678971600@www.diocesealex.org
SUMMARY:Lunch
DESCRIPTION:Today’s choices for lunch include: Sliced pork roast over rice\, green beans\, glazed carrots\, diced pears\, whole grain roll\, choice of milk.
URL:https://www.diocesealex.org/old/event/lunch-724/
LOCATION:LA\, United States
CATEGORIES:Schools
GEO:30.9842977;-91.9623327
END:VEVENT
BEGIN:VEVENT
DTSTART;TZID=America/Chicago:20230316T070000
DTEND;TZID=America/Chicago:20230316T073000
DTSTAMP:20260425T215949
CREATED:20230308T201231Z
LAST-MODIFIED:20230308T201231Z
UID:10002399-1678950000-1678951800@www.diocesealex.org
SUMMARY:Breakfast
DESCRIPTION:Today’s choices for breakfast include: French toast sticks\, choice of juice\, choice of milk.
URL:https://www.diocesealex.org/old/event/breakfast-726/
LOCATION:LA\, United States
CATEGORIES:Schools
GEO:30.9842977;-91.9623327
END:VEVENT
BEGIN:VEVENT
DTSTART;TZID=America/Chicago:20230315T110000
DTEND;TZID=America/Chicago:20230315T130000
DTSTAMP:20260425T215949
CREATED:20230308T205421Z
LAST-MODIFIED:20230308T205421Z
UID:10002432-1678878000-1678885200@www.diocesealex.org
SUMMARY:Lunch
DESCRIPTION:Today’s choices for lunch include: Meatloaf and mashed potatoes\, green peas\, whole grain roll\, sliced peaches\, choice of milk.
URL:https://www.diocesealex.org/old/event/lunch-723/
LOCATION:LA\, United States
CATEGORIES:Schools
GEO:30.9842977;-91.9623327
END:VEVENT
BEGIN:VEVENT
DTSTART;TZID=America/Chicago:20230315T070000
DTEND;TZID=America/Chicago:20230315T073000
DTSTAMP:20260425T215949
CREATED:20230308T201155Z
LAST-MODIFIED:20230308T201155Z
UID:10002398-1678863600-1678865400@www.diocesealex.org
SUMMARY:Breakfast
DESCRIPTION:Today’s choices for breakfast include: Pancakes/syrup. diced pears\, choice of milk.
URL:https://www.diocesealex.org/old/event/breakfast-725/
LOCATION:LA\, United States
CATEGORIES:Schools
GEO:30.9842977;-91.9623327
END:VEVENT
BEGIN:VEVENT
DTSTART;TZID=America/Chicago:20230314T110000
DTEND;TZID=America/Chicago:20230314T130000
DTSTAMP:20260425T215949
CREATED:20230308T205342Z
LAST-MODIFIED:20230308T205342Z
UID:10002431-1678791600-1678798800@www.diocesealex.org
SUMMARY:Lunch
DESCRIPTION:Today’s choices for lunch include: White beans and ham over rice\, steamed cabbage\, cornbread\, sliced peaches\, choice of milk.
URL:https://www.diocesealex.org/old/event/lunch-722/
LOCATION:LA\, United States
CATEGORIES:Schools
GEO:30.9842977;-91.9623327
END:VEVENT
BEGIN:VEVENT
DTSTART;TZID=America/Chicago:20230314T070000
DTEND;TZID=America/Chicago:20230314T073000
DTSTAMP:20260425T215949
CREATED:20230308T201112Z
LAST-MODIFIED:20230308T201112Z
UID:10002397-1678777200-1678779000@www.diocesealex.org
SUMMARY:Breakfast
DESCRIPTION:Today’s choices for breakfast include: Turkey ham\, grits\, choice of juice\, choice of milk.
URL:https://www.diocesealex.org/old/event/breakfast-724/
LOCATION:LA\, United States
CATEGORIES:Schools
GEO:30.9842977;-91.9623327
END:VEVENT
BEGIN:VEVENT
DTSTART;TZID=America/Chicago:20230313T110000
DTEND;TZID=America/Chicago:20230313T130000
DTSTAMP:20260425T215949
CREATED:20230308T205249Z
LAST-MODIFIED:20230308T205249Z
UID:10002430-1678705200-1678712400@www.diocesealex.org
SUMMARY:Lunch
DESCRIPTION:Today’s choices for lunch include: Chicken fajita soft taco\, steamed corn\, garden salad/dressing\, mixed fruit\, choice of milk.
URL:https://www.diocesealex.org/old/event/lunch-721/
LOCATION:LA\, United States
CATEGORIES:Schools
GEO:30.9842977;-91.9623327
END:VEVENT
BEGIN:VEVENT
DTSTART;TZID=America/Chicago:20230313T070000
DTEND;TZID=America/Chicago:20230313T073000
DTSTAMP:20260425T215949
CREATED:20230308T201033Z
LAST-MODIFIED:20230308T201033Z
UID:10002396-1678690800-1678692600@www.diocesealex.org
SUMMARY:Breakfast
DESCRIPTION:Today’s choices for breakfast include: Chocolate chip muffin\, mixed fruit\, choice of milk.
URL:https://www.diocesealex.org/old/event/breakfast-723/
LOCATION:LA\, United States
CATEGORIES:Schools
GEO:30.9842977;-91.9623327
END:VEVENT
BEGIN:VEVENT
DTSTART;TZID=America/Chicago:20230310T110000
DTEND;TZID=America/Chicago:20230310T130000
DTSTAMP:20260425T215949
CREATED:20230308T205207Z
LAST-MODIFIED:20230308T205207Z
UID:10002429-1678446000-1678453200@www.diocesealex.org
SUMMARY:Lunch
DESCRIPTION:Today’s choices for lunch include: Fish fillet\, mac and cheese\, garden salad/dressing\, whole grain roll\, sliced peaches\, choice of milk.
URL:https://www.diocesealex.org/old/event/lunch-720/
LOCATION:LA\, United States
CATEGORIES:Schools
GEO:30.9842977;-91.9623327
END:VEVENT
BEGIN:VEVENT
DTSTART;TZID=America/Chicago:20230310T070000
DTEND;TZID=America/Chicago:20230310T073000
DTSTAMP:20260425T215949
CREATED:20230308T200953Z
LAST-MODIFIED:20230308T200953Z
UID:10002395-1678431600-1678433400@www.diocesealex.org
SUMMARY:Breakfast
DESCRIPTION:Today’s choices for breakfast include: Choice of cereal\, applesauce\, choice of milk.
URL:https://www.diocesealex.org/old/event/breakfast-722/
LOCATION:LA\, United States
CATEGORIES:Schools
GEO:30.9842977;-91.9623327
END:VEVENT
BEGIN:VEVENT
DTSTART;TZID=America/Chicago:20230309T110000
DTEND;TZID=America/Chicago:20230309T130000
DTSTAMP:20260425T215949
CREATED:20230308T205103Z
LAST-MODIFIED:20230308T205103Z
UID:10002428-1678359600-1678366800@www.diocesealex.org
SUMMARY:Lunch
DESCRIPTION:Today’s choices for lunch include: Hamburger\, french fries\, stack salad\, diced pears\, choice of milk.
URL:https://www.diocesealex.org/old/event/lunch-719/
LOCATION:LA\, United States
CATEGORIES:Schools
GEO:30.9842977;-91.9623327
END:VEVENT
BEGIN:VEVENT
DTSTART;TZID=America/Chicago:20230309T070000
DTEND;TZID=America/Chicago:20230309T073000
DTSTAMP:20260425T215949
CREATED:20230308T200905Z
LAST-MODIFIED:20230308T200905Z
UID:10002394-1678345200-1678347000@www.diocesealex.org
SUMMARY:Breakfast
DESCRIPTION:Today’s choices for breakfast include: Whole grain waffles/syrup\, choice of juice\, choice of milk.
URL:https://www.diocesealex.org/old/event/breakfast-721/
LOCATION:LA\, United States
CATEGORIES:Schools
GEO:30.9842977;-91.9623327
END:VEVENT
BEGIN:VEVENT
DTSTART;TZID=America/Chicago:20230308T110000
DTEND;TZID=America/Chicago:20230308T130000
DTSTAMP:20260425T215949
CREATED:20230308T205017Z
LAST-MODIFIED:20230308T205017Z
UID:10002427-1678273200-1678280400@www.diocesealex.org
SUMMARY:Lunch
DESCRIPTION:Today’s choices for lunch include: Jambalaya\, baked sweet potatoes\, whole grain roll\, diced pears\, choice of milk.
URL:https://www.diocesealex.org/old/event/lunch-718/
LOCATION:LA\, United States
CATEGORIES:Schools
GEO:30.9842977;-91.9623327
END:VEVENT
BEGIN:VEVENT
DTSTART;TZID=America/Chicago:20230308T070000
DTEND;TZID=America/Chicago:20230308T073000
DTSTAMP:20260425T215949
CREATED:20230308T200824Z
LAST-MODIFIED:20230308T200824Z
UID:10002393-1678258800-1678260600@www.diocesealex.org
SUMMARY:Breakfast
DESCRIPTION:Today’s choices for breakfast include: Apple cinnamon muffin\, peaches\, choice of milk.
URL:https://www.diocesealex.org/old/event/breakfast-720/
LOCATION:LA\, United States
CATEGORIES:Schools
GEO:30.9842977;-91.9623327
END:VEVENT
BEGIN:VEVENT
DTSTART;TZID=America/Chicago:20230307T110000
DTEND;TZID=America/Chicago:20230307T130000
DTSTAMP:20260425T215949
CREATED:20230308T204904Z
LAST-MODIFIED:20230308T204904Z
UID:10002426-1678186800-1678194000@www.diocesealex.org
SUMMARY:Lunch
DESCRIPTION:Today’s choices for lunch include: Red beans and ham/rice\, steamed mustard greens\, cornbread\, mixed fruit\, choice of milk.
URL:https://www.diocesealex.org/old/event/lunch-717/
LOCATION:LA\, United States
CATEGORIES:Schools
GEO:30.9842977;-91.9623327
END:VEVENT
BEGIN:VEVENT
DTSTART;TZID=America/Chicago:20230307T070000
DTEND;TZID=America/Chicago:20230307T073000
DTSTAMP:20260425T215949
CREATED:20230308T200747Z
LAST-MODIFIED:20230308T200747Z
UID:10002392-1678172400-1678174200@www.diocesealex.org
SUMMARY:Breakfast
DESCRIPTION:Today’s choices for breakfast include: Turkey ham\, grits\, choice of juice\, choice of milk.
URL:https://www.diocesealex.org/old/event/breakfast-719/
LOCATION:LA\, United States
CATEGORIES:Schools
GEO:30.9842977;-91.9623327
END:VEVENT
BEGIN:VEVENT
DTSTART;TZID=America/Chicago:20230306T110000
DTEND;TZID=America/Chicago:20230306T130000
DTSTAMP:20260425T215949
CREATED:20230308T204816Z
LAST-MODIFIED:20230308T204816Z
UID:10002425-1678100400-1678107600@www.diocesealex.org
SUMMARY:Lunch
DESCRIPTION:Today’s choices for lunch include: Chicken stew/rice\, green beans\, glazed carrots\, diced pears\, choice of milk.
URL:https://www.diocesealex.org/old/event/lunch-716/
LOCATION:LA\, United States
CATEGORIES:Schools
GEO:30.9842977;-91.9623327
END:VEVENT
BEGIN:VEVENT
DTSTART;TZID=America/Chicago:20230306T070000
DTEND;TZID=America/Chicago:20230306T073000
DTSTAMP:20260425T215949
CREATED:20230308T200704Z
LAST-MODIFIED:20230308T200704Z
UID:10002391-1678086000-1678087800@www.diocesealex.org
SUMMARY:Breakfast
DESCRIPTION:Today’s choices for breakfast are: Pancakes/syrup\, diced pears\, choice of milk.
URL:https://www.diocesealex.org/old/event/breakfast-718/
LOCATION:LA\, United States
CATEGORIES:Schools
GEO:30.9842977;-91.9623327
END:VEVENT
BEGIN:VEVENT
DTSTART;TZID=America/Chicago:20230303T110000
DTEND;TZID=America/Chicago:20230303T130000
DTSTAMP:20260425T215949
CREATED:20230130T211424Z
LAST-MODIFIED:20230130T211424Z
UID:10002368-1677841200-1677848400@www.diocesealex.org
SUMMARY:Lunch
DESCRIPTION:Today’s choices for lunch include: Fish sticks\, french fries\, garden salad/dressing\, whole grain roll\, applesauce\, choice of milk.
URL:https://www.diocesealex.org/old/event/lunch-715/
LOCATION:LA\, United States
CATEGORIES:Schools
GEO:30.9842977;-91.9623327
END:VEVENT
BEGIN:VEVENT
DTSTART;TZID=America/Chicago:20230303T070000
DTEND;TZID=America/Chicago:20230303T073000
DTSTAMP:20260425T215949
CREATED:20230130T205541Z
LAST-MODIFIED:20230130T205541Z
UID:10002346-1677826800-1677828600@www.diocesealex.org
SUMMARY:Breakfast
DESCRIPTION:Today’s choices for breakfast include: Choice of cereal\, mixed fruit\, choice of milk.
URL:https://www.diocesealex.org/old/event/breakfast-717/
LOCATION:LA\, United States
CATEGORIES:Schools
GEO:30.9842977;-91.9623327
END:VEVENT
BEGIN:VEVENT
DTSTART;TZID=America/Chicago:20230302T110000
DTEND;TZID=America/Chicago:20230302T130000
DTSTAMP:20260425T215949
CREATED:20230130T211339Z
LAST-MODIFIED:20230130T211339Z
UID:10002367-1677754800-1677762000@www.diocesealex.org
SUMMARY:Lunch
DESCRIPTION:Today’s choices for lunch include: Turkey ham\, mac&cheese\, garden salad/dressing\, mixed fruit\, whole grain roll\, choice of milk.
URL:https://www.diocesealex.org/old/event/lunch-714/
LOCATION:LA\, United States
CATEGORIES:Schools
GEO:30.9842977;-91.9623327
END:VEVENT
BEGIN:VEVENT
DTSTART;TZID=America/Chicago:20230302T070000
DTEND;TZID=America/Chicago:20230302T073000
DTSTAMP:20260425T215949
CREATED:20230130T203145Z
LAST-MODIFIED:20230130T205642Z
UID:10002327-1677740400-1677742200@www.diocesealex.org
SUMMARY:Breakfast
DESCRIPTION:Today’s choices for breakfast include: French toast sticks\, choice of milk\, choice of juice.
URL:https://www.diocesealex.org/old/event/breakfast-698/
LOCATION:LA\, United States
CATEGORIES:Schools
GEO:30.9842977;-91.9623327
END:VEVENT
BEGIN:VEVENT
DTSTART;TZID=America/Chicago:20230301T110000
DTEND;TZID=America/Chicago:20230301T130000
DTSTAMP:20260425T215949
CREATED:20230130T211250Z
LAST-MODIFIED:20230130T211250Z
UID:10002366-1677668400-1677675600@www.diocesealex.org
SUMMARY:Lunch
DESCRIPTION:Today’s choices for lunch include: Gumbo/rice\, baked sweet potatoes\, diced pears\, whole grain roll\, choice of milk.
URL:https://www.diocesealex.org/old/event/lunch-713/
LOCATION:LA\, United States
CATEGORIES:Schools
GEO:30.9842977;-91.9623327
END:VEVENT
BEGIN:VEVENT
DTSTART;TZID=America/Chicago:20230301T070000
DTEND;TZID=America/Chicago:20230301T073000
DTSTAMP:20260425T215949
CREATED:20230130T205419Z
LAST-MODIFIED:20230130T205419Z
UID:10002344-1677654000-1677655800@www.diocesealex.org
SUMMARY:Breakfast
DESCRIPTION:Today’s choices for breakfast include: Cinnamon toast\, applesauce\, choice of milk.
URL:https://www.diocesealex.org/old/event/breakfast-715/
LOCATION:LA\, United States
CATEGORIES:Schools
GEO:30.9842977;-91.9623327
END:VEVENT
BEGIN:VEVENT
DTSTART;TZID=America/Chicago:20230228T110000
DTEND;TZID=America/Chicago:20230228T130000
DTSTAMP:20260425T215949
CREATED:20230130T211209Z
LAST-MODIFIED:20230130T211209Z
UID:10002365-1677582000-1677589200@www.diocesealex.org
SUMMARY:Lunch
DESCRIPTION:Today’s choices for lunch include: Chicken & cheese nachos\, Mexican corn\, garden salad/dressing\, mixed fruit\, choice of milk.
URL:https://www.diocesealex.org/old/event/lunch-712/
LOCATION:LA\, United States
CATEGORIES:Schools
GEO:30.9842977;-91.9623327
END:VEVENT
BEGIN:VEVENT
DTSTART;TZID=America/Chicago:20230228T070000
DTEND;TZID=America/Chicago:20230228T073000
DTSTAMP:20260425T215949
CREATED:20230130T205347Z
LAST-MODIFIED:20230130T205347Z
UID:10002343-1677567600-1677569400@www.diocesealex.org
SUMMARY:Breakfast
DESCRIPTION:Today’s choices for breakfast include: Turkey ham\, grits\, choice of milk\, choice of juice.
URL:https://www.diocesealex.org/old/event/breakfast-714/
LOCATION:LA\, United States
CATEGORIES:Schools
GEO:30.9842977;-91.9623327
END:VEVENT
BEGIN:VEVENT
DTSTART;TZID=America/Chicago:20230227T110000
DTEND;TZID=America/Chicago:20230227T130000
DTSTAMP:20260425T215949
CREATED:20230130T211118Z
LAST-MODIFIED:20230130T211118Z
UID:10002364-1677495600-1677502800@www.diocesealex.org
SUMMARY:Lunch
DESCRIPTION:Today’s choices for lunch include: Shepherd’s pie\, peas&carrots\, whole grain roll\, diced pears\, choice of milk.
URL:https://www.diocesealex.org/old/event/lunch-711/
LOCATION:LA\, United States
CATEGORIES:Schools
GEO:30.9842977;-91.9623327
END:VEVENT
BEGIN:VEVENT
DTSTART;TZID=America/Chicago:20230227T070000
DTEND;TZID=America/Chicago:20230227T073000
DTSTAMP:20260425T215949
CREATED:20230130T205306Z
LAST-MODIFIED:20230130T205306Z
UID:10002342-1677481200-1677483000@www.diocesealex.org
SUMMARY:Breakfast
DESCRIPTION:Today’s choices for breakfast include: Pancakes/syrup\, diced pears\, choice of milk.
URL:https://www.diocesealex.org/old/event/breakfast-713/
LOCATION:LA\, United States
CATEGORIES:Schools
GEO:30.9842977;-91.9623327
END:VEVENT
BEGIN:VEVENT
DTSTART;TZID=America/Chicago:20230224T110000
DTEND;TZID=America/Chicago:20230224T130000
DTSTAMP:20260425T215949
CREATED:20230130T211036Z
LAST-MODIFIED:20230130T211036Z
UID:10002363-1677236400-1677243600@www.diocesealex.org
SUMMARY:Lunch
DESCRIPTION:Today’s choices for lunch include: Fish filet\, mac&cheese\, garden salad/dressing\, whole grain roll\, sliced peaches\, choice of milk.
URL:https://www.diocesealex.org/old/event/lunch-710/
LOCATION:LA\, United States
CATEGORIES:Schools
GEO:30.9842977;-91.9623327
END:VEVENT
END:VCALENDAR