BEGIN:VCALENDAR
VERSION:2.0
PRODID:-//Diocese of Alexandria - ECPv6.5.1.5//NONSGML v1.0//EN
CALSCALE:GREGORIAN
METHOD:PUBLISH
X-WR-CALNAME:Diocese of Alexandria
X-ORIGINAL-URL:https://www.diocesealex.org/old
X-WR-CALDESC:Events for Diocese of Alexandria
REFRESH-INTERVAL;VALUE=DURATION:PT1H
X-Robots-Tag:noindex
X-PUBLISHED-TTL:PT1H
BEGIN:VTIMEZONE
TZID:America/Chicago
BEGIN:DAYLIGHT
TZOFFSETFROM:-0600
TZOFFSETTO:-0500
TZNAME:CDT
DTSTART:20230312T080000
END:DAYLIGHT
BEGIN:STANDARD
TZOFFSETFROM:-0500
TZOFFSETTO:-0600
TZNAME:CST
DTSTART:20231105T070000
END:STANDARD
END:VTIMEZONE
BEGIN:VEVENT
DTSTART;TZID=America/Chicago:20230428T070000
DTEND;TZID=America/Chicago:20230428T073000
DTSTAMP:20260425T202815
CREATED:20230308T203239Z
LAST-MODIFIED:20230308T203239Z
UID:10002424-1682665200-1682667000@www.diocesealex.org
SUMMARY:Breakfast
DESCRIPTION:Today’s choices for breakfast include: Choice of cereal\, peaches\, choice of milk.
URL:https://www.diocesealex.org/old/event/breakfast-751/
LOCATION:LA\, United States
CATEGORIES:Schools
GEO:30.9842977;-91.9623327
END:VEVENT
BEGIN:VEVENT
DTSTART;TZID=America/Chicago:20230427T110000
DTEND;TZID=America/Chicago:20230427T130000
DTSTAMP:20260425T202815
CREATED:20230308T211422Z
LAST-MODIFIED:20230308T211422Z
UID:10002457-1682593200-1682600400@www.diocesealex.org
SUMMARY:Lunch
DESCRIPTION:Today’s choices for lunch include: Spaghetti with meat sauce\, garden salad/dressing\, garlic bread\, diced pears\, choice of milk.
URL:https://www.diocesealex.org/old/event/lunch-748/
LOCATION:LA\, United States
CATEGORIES:Schools
GEO:30.9842977;-91.9623327
END:VEVENT
BEGIN:VEVENT
DTSTART;TZID=America/Chicago:20230427T070000
DTEND;TZID=America/Chicago:20230427T073000
DTSTAMP:20260425T202815
CREATED:20230308T203201Z
LAST-MODIFIED:20230308T203201Z
UID:10002423-1682578800-1682580600@www.diocesealex.org
SUMMARY:Breakfast
DESCRIPTION:Today’s choices for breakfast include: French toast sticks\, choice of juice\, choice of milk.
URL:https://www.diocesealex.org/old/event/breakfast-750/
LOCATION:LA\, United States
CATEGORIES:Schools
GEO:30.9842977;-91.9623327
END:VEVENT
BEGIN:VEVENT
DTSTART;TZID=America/Chicago:20230426T110000
DTEND;TZID=America/Chicago:20230426T130000
DTSTAMP:20260425T202815
CREATED:20230308T211337Z
LAST-MODIFIED:20230308T211337Z
UID:10002456-1682506800-1682514000@www.diocesealex.org
SUMMARY:Lunch
DESCRIPTION:Today’s choices for lunch include: Sliced pork roast and rice\, black eyed peas\, steamed corn\, cornbread\, fresh oranges\, choice of milk.
URL:https://www.diocesealex.org/old/event/lunch-747/
LOCATION:LA\, United States
CATEGORIES:Schools
GEO:30.9842977;-91.9623327
END:VEVENT
BEGIN:VEVENT
DTSTART;TZID=America/Chicago:20230426T070000
DTEND;TZID=America/Chicago:20230426T073000
DTSTAMP:20260425T202815
CREATED:20230308T203123Z
LAST-MODIFIED:20230308T203123Z
UID:10002422-1682492400-1682494200@www.diocesealex.org
SUMMARY:Breakfast
DESCRIPTION:Today’s choices for breakfast include: Blueberry muffin\, mixed fruit\, choice of milk.
URL:https://www.diocesealex.org/old/event/breakfast-749/
LOCATION:LA\, United States
CATEGORIES:Schools
GEO:30.9842977;-91.9623327
END:VEVENT
BEGIN:VEVENT
DTSTART;TZID=America/Chicago:20230425T110000
DTEND;TZID=America/Chicago:20230425T130000
DTSTAMP:20260425T202815
CREATED:20230308T211247Z
LAST-MODIFIED:20230308T211247Z
UID:10002455-1682420400-1682427600@www.diocesealex.org
SUMMARY:Lunch
DESCRIPTION:Today’s choices for lunch include: Beef and cheese nachos\, Mexican corn\, garden salad/dressing\, sugar cookie\, peaches\, choice of milk.
URL:https://www.diocesealex.org/old/event/lunch-746/
LOCATION:LA\, United States
CATEGORIES:Schools
GEO:30.9842977;-91.9623327
END:VEVENT
BEGIN:VEVENT
DTSTART;TZID=America/Chicago:20230425T070000
DTEND;TZID=America/Chicago:20230425T073000
DTSTAMP:20260425T202815
CREATED:20230308T203046Z
LAST-MODIFIED:20230308T203046Z
UID:10002421-1682406000-1682407800@www.diocesealex.org
SUMMARY:Breakfast
DESCRIPTION:Today’s choices for breakfast include: Turkey ham\, grits\, choice of juice\, choice of milk.
URL:https://www.diocesealex.org/old/event/breakfast-748/
LOCATION:LA\, United States
CATEGORIES:Schools
GEO:30.9842977;-91.9623327
END:VEVENT
BEGIN:VEVENT
DTSTART;TZID=America/Chicago:20230424T110000
DTEND;TZID=America/Chicago:20230424T130000
DTSTAMP:20260425T202815
CREATED:20230308T211205Z
LAST-MODIFIED:20230308T211205Z
UID:10002454-1682334000-1682341200@www.diocesealex.org
SUMMARY:Lunch
DESCRIPTION:Today’s choices for lunch include: Chicken Aflredo\, garden salad/dressing\, whole grain roll\, applesauce\, choice of milk.
URL:https://www.diocesealex.org/old/event/lunch-745/
LOCATION:LA\, United States
CATEGORIES:Schools
GEO:30.9842977;-91.9623327
END:VEVENT
BEGIN:VEVENT
DTSTART;TZID=America/Chicago:20230424T070000
DTEND;TZID=America/Chicago:20230424T073000
DTSTAMP:20260425T202815
CREATED:20230308T203010Z
LAST-MODIFIED:20230308T203010Z
UID:10002420-1682319600-1682321400@www.diocesealex.org
SUMMARY:Breakfast
DESCRIPTION:Today’s choices for breakfast include: Pancakes/syrup\, diced pears\, choice of milk.
URL:https://www.diocesealex.org/old/event/breakfast-747/
LOCATION:LA\, United States
CATEGORIES:Schools
GEO:30.9842977;-91.9623327
END:VEVENT
BEGIN:VEVENT
DTSTART;TZID=America/Chicago:20230421T110000
DTEND;TZID=America/Chicago:20230421T130000
DTSTAMP:20260425T202815
CREATED:20230308T211124Z
LAST-MODIFIED:20230308T211124Z
UID:10002453-1682074800-1682082000@www.diocesealex.org
SUMMARY:Lunch
DESCRIPTION:Today’s choices for lunch include: Fish sticks\, french fries\, garden salad/dressing\, whole grain roll\, applesauce\, choice of milk.
URL:https://www.diocesealex.org/old/event/lunch-744/
LOCATION:LA\, United States
CATEGORIES:Schools
GEO:30.9842977;-91.9623327
END:VEVENT
BEGIN:VEVENT
DTSTART;TZID=America/Chicago:20230421T070000
DTEND;TZID=America/Chicago:20230421T073000
DTSTAMP:20260425T202815
CREATED:20230308T202848Z
LAST-MODIFIED:20230308T202848Z
UID:10002419-1682060400-1682062200@www.diocesealex.org
SUMMARY:Breakfast
DESCRIPTION:Today’s choices for breakfast include: Choice of cereal\, mixed fruit\, choice of milk.
URL:https://www.diocesealex.org/old/event/breakfast-746/
LOCATION:LA\, United States
CATEGORIES:Schools
GEO:30.9842977;-91.9623327
END:VEVENT
BEGIN:VEVENT
DTSTART;TZID=America/Chicago:20230420T110000
DTEND;TZID=America/Chicago:20230420T130000
DTSTAMP:20260425T202816
CREATED:20230308T211045Z
LAST-MODIFIED:20230308T211045Z
UID:10002452-1681988400-1681995600@www.diocesealex.org
SUMMARY:Lunch
DESCRIPTION:Today’s choices for lunch include: Chicken fajita soft taco\, steamed corn\, garden salad/dressing\, mixed fruit\, choice of milk.
URL:https://www.diocesealex.org/old/event/lunch-743/
LOCATION:LA\, United States
CATEGORIES:Schools
GEO:30.9842977;-91.9623327
END:VEVENT
BEGIN:VEVENT
DTSTART;TZID=America/Chicago:20230420T070000
DTEND;TZID=America/Chicago:20230420T073000
DTSTAMP:20260425T202816
CREATED:20230308T202806Z
LAST-MODIFIED:20230308T202806Z
UID:10002418-1681974000-1681975800@www.diocesealex.org
SUMMARY:Breakfast
DESCRIPTION:Today’s choices for breakfast include: Whole grain waffles\, choice of juice\, choice of milk.
URL:https://www.diocesealex.org/old/event/breakfast-745/
LOCATION:LA\, United States
CATEGORIES:Schools
GEO:30.9842977;-91.9623327
END:VEVENT
BEGIN:VEVENT
DTSTART;TZID=America/Chicago:20230419T110000
DTEND;TZID=America/Chicago:20230419T130000
DTSTAMP:20260425T202816
CREATED:20230308T211006Z
LAST-MODIFIED:20230308T211006Z
UID:10002451-1681902000-1681909200@www.diocesealex.org
SUMMARY:Lunch
DESCRIPTION:Today’s choices for lunch include: Sliced pork roast and rice\, green beans\, glazed carrots\, diced pears\, whole grain roll\, choice of milk.
URL:https://www.diocesealex.org/old/event/lunch-742/
LOCATION:LA\, United States
CATEGORIES:Schools
GEO:30.9842977;-91.9623327
END:VEVENT
BEGIN:VEVENT
DTSTART;TZID=America/Chicago:20230419T070000
DTEND;TZID=America/Chicago:20230419T073000
DTSTAMP:20260425T202816
CREATED:20230308T202736Z
LAST-MODIFIED:20230308T202736Z
UID:10002417-1681887600-1681889400@www.diocesealex.org
SUMMARY:Breakfast
DESCRIPTION:Today’s choices for breakfast include: Scrambled egg\, toast\, sliced peaches\, choice of milk.
URL:https://www.diocesealex.org/old/event/breakfast-744/
LOCATION:LA\, United States
CATEGORIES:Schools
GEO:30.9842977;-91.9623327
END:VEVENT
BEGIN:VEVENT
DTSTART;TZID=America/Chicago:20230418T110000
DTEND;TZID=America/Chicago:20230418T130000
DTSTAMP:20260425T202816
CREATED:20230308T210922Z
LAST-MODIFIED:20230308T210922Z
UID:10002450-1681815600-1681822800@www.diocesealex.org
SUMMARY:Lunch
DESCRIPTION:Today’s choices for lunch include: White beans with ham over rice\, steamed mustard greens\, cornbread\, sliced peaches\, choice of milk.
URL:https://www.diocesealex.org/old/event/lunch-741/
LOCATION:LA\, United States
CATEGORIES:Schools
GEO:30.9842977;-91.9623327
END:VEVENT
BEGIN:VEVENT
DTSTART;TZID=America/Chicago:20230418T070000
DTEND;TZID=America/Chicago:20230418T073000
DTSTAMP:20260425T202816
CREATED:20230308T202656Z
LAST-MODIFIED:20230308T202656Z
UID:10002416-1681801200-1681803000@www.diocesealex.org
SUMMARY:Breakfast
DESCRIPTION:Today’s choices for breakfast include: Turkey ham\, grits\, choice of juice\, choice of milk.
URL:https://www.diocesealex.org/old/event/breakfast-743/
LOCATION:LA\, United States
CATEGORIES:Schools
GEO:30.9842977;-91.9623327
END:VEVENT
BEGIN:VEVENT
DTSTART;TZID=America/Chicago:20230417T110000
DTEND;TZID=America/Chicago:20230417T130000
DTSTAMP:20260425T202816
CREATED:20230308T210842Z
LAST-MODIFIED:20230308T210842Z
UID:10002449-1681729200-1681736400@www.diocesealex.org
SUMMARY:Lunch
DESCRIPTION:Today’s choices for lunch include: Beef and cheese with macaroni\, steamed broccoli\, baked beans\, whole grain roll\, diced pears\, choice of milk.
URL:https://www.diocesealex.org/old/event/lunch-740/
LOCATION:LA\, United States
CATEGORIES:Schools
GEO:30.9842977;-91.9623327
END:VEVENT
BEGIN:VEVENT
DTSTART;TZID=America/Chicago:20230417T070000
DTEND;TZID=America/Chicago:20230417T073000
DTSTAMP:20260425T202816
CREATED:20230308T202622Z
LAST-MODIFIED:20230308T202622Z
UID:10002415-1681714800-1681716600@www.diocesealex.org
SUMMARY:Breakfast
DESCRIPTION:Today’s choices for breakfast include: Breakfast pizza\, applesauce\, choice of milk.
URL:https://www.diocesealex.org/old/event/breakfast-742/
LOCATION:LA\, United States
CATEGORIES:Schools
GEO:30.9842977;-91.9623327
END:VEVENT
BEGIN:VEVENT
DTSTART;VALUE=DATE:20230407
DTEND;VALUE=DATE:20230415
DTSTAMP:20260425T202816
CREATED:20220615T222657Z
LAST-MODIFIED:20220615T222657Z
UID:10002097-1680825600-1681516799@www.diocesealex.org
SUMMARY:Easter Break: no classes
DESCRIPTION:
URL:https://www.diocesealex.org/old/event/easter-break-no-classes/
LOCATION:LA\, United States
CATEGORIES:Schools
GEO:30.9842977;-91.9623327
END:VEVENT
BEGIN:VEVENT
DTSTART;TZID=America/Chicago:20230406T110000
DTEND;TZID=America/Chicago:20230406T130000
DTSTAMP:20260425T202816
CREATED:20230308T210659Z
LAST-MODIFIED:20230308T210659Z
UID:10002448-1680778800-1680786000@www.diocesealex.org
SUMMARY:Lunch
DESCRIPTION:Today’s choices for lunch include: Corn dog\, french fries\, garden salad/dressing\, sliced peaches\, choice of milk.
URL:https://www.diocesealex.org/old/event/lunch-739/
LOCATION:LA\, United States
CATEGORIES:Schools
GEO:30.9842977;-91.9623327
END:VEVENT
BEGIN:VEVENT
DTSTART;TZID=America/Chicago:20230406T070000
DTEND;TZID=America/Chicago:20230406T073000
DTSTAMP:20260425T202816
CREATED:20230308T202547Z
LAST-MODIFIED:20230308T202547Z
UID:10002414-1680764400-1680766200@www.diocesealex.org
SUMMARY:Breakfast
DESCRIPTION:Today’s choices for breakfast include: Whole grain waffles/syrup\, choice of juice\, choice of milk.
URL:https://www.diocesealex.org/old/event/breakfast-741/
LOCATION:LA\, United States
CATEGORIES:Schools
GEO:30.9842977;-91.9623327
END:VEVENT
BEGIN:VEVENT
DTSTART;TZID=America/Chicago:20230405T110000
DTEND;TZID=America/Chicago:20230405T130000
DTSTAMP:20260425T202816
CREATED:20230308T210617Z
LAST-MODIFIED:20230308T210617Z
UID:10002447-1680692400-1680699600@www.diocesealex.org
SUMMARY:Lunch
DESCRIPTION:Today’s choices for lunch include: Pork roast\, rice dressing\, baked sweet potatoes\, green beans\, whole grain roll\, sliced peaches\, yellow cake\, choice of milk.
URL:https://www.diocesealex.org/old/event/lunch-738/
LOCATION:LA\, United States
CATEGORIES:Schools
GEO:30.9842977;-91.9623327
END:VEVENT
BEGIN:VEVENT
DTSTART;TZID=America/Chicago:20230405T070000
DTEND;TZID=America/Chicago:20230405T073000
DTSTAMP:20260425T202816
CREATED:20230308T202443Z
LAST-MODIFIED:20230308T202443Z
UID:10002413-1680678000-1680679800@www.diocesealex.org
SUMMARY:Breakfast
DESCRIPTION:Today’s choices for breakfast include: Apple cinnamon muffin\, peaches\, choice of milk.
URL:https://www.diocesealex.org/old/event/breakfast-740/
LOCATION:LA\, United States
CATEGORIES:Schools
GEO:30.9842977;-91.9623327
END:VEVENT
BEGIN:VEVENT
DTSTART;TZID=America/Chicago:20230404T110000
DTEND;TZID=America/Chicago:20230404T130000
DTSTAMP:20260425T202816
CREATED:20230308T210527Z
LAST-MODIFIED:20230308T210527Z
UID:10002446-1680606000-1680613200@www.diocesealex.org
SUMMARY:Lunch
DESCRIPTION:Today’s choices for lunch include: Red beans and ham over rice\, steamed mustard greens\, cornbread\, mixed fruit\, choice of milk.
URL:https://www.diocesealex.org/old/event/lunch-737/
LOCATION:LA\, United States
CATEGORIES:Schools
GEO:30.9842977;-91.9623327
END:VEVENT
BEGIN:VEVENT
DTSTART;TZID=America/Chicago:20230404T070000
DTEND;TZID=America/Chicago:20230404T073000
DTSTAMP:20260425T202816
CREATED:20230308T202408Z
LAST-MODIFIED:20230308T202408Z
UID:10002412-1680591600-1680593400@www.diocesealex.org
SUMMARY:Breakfast
DESCRIPTION:Today’s choices for breakfast include: Turkey ham\, grits\, choice of juice\, choice of milk.
URL:https://www.diocesealex.org/old/event/breakfast-739/
LOCATION:LA\, United States
CATEGORIES:Schools
GEO:30.9842977;-91.9623327
END:VEVENT
BEGIN:VEVENT
DTSTART;TZID=America/Chicago:20230403T110000
DTEND;TZID=America/Chicago:20230403T130000
DTSTAMP:20260425T202816
CREATED:20230308T210445Z
LAST-MODIFIED:20230308T210445Z
UID:10002445-1680519600-1680526800@www.diocesealex.org
SUMMARY:Lunch
DESCRIPTION:Today’s choices for lunch include: Hamburger\, french fries\, stack salad\, applesauce\, choice of milk.
URL:https://www.diocesealex.org/old/event/lunch-736/
LOCATION:LA\, United States
CATEGORIES:Schools
GEO:30.9842977;-91.9623327
END:VEVENT
BEGIN:VEVENT
DTSTART;TZID=America/Chicago:20230403T070000
DTEND;TZID=America/Chicago:20230403T073000
DTSTAMP:20260425T202816
CREATED:20230308T202330Z
LAST-MODIFIED:20230308T202330Z
UID:10002411-1680505200-1680507000@www.diocesealex.org
SUMMARY:Breakfast
DESCRIPTION:Today’s choices for breakfast include: Sausage pancake on a stick\, diced pears\, choice of milk.
URL:https://www.diocesealex.org/old/event/breakfast-738/
LOCATION:LA\, United States
CATEGORIES:Schools
GEO:30.9842977;-91.9623327
END:VEVENT
BEGIN:VEVENT
DTSTART;TZID=America/Chicago:20230331T110000
DTEND;TZID=America/Chicago:20230331T130000
DTSTAMP:20260425T202816
CREATED:20230308T210405Z
LAST-MODIFIED:20230308T210405Z
UID:10002444-1680260400-1680267600@www.diocesealex.org
SUMMARY:Lunch
DESCRIPTION:Today’s choices for lunch include: Catfish strips\, french fries\, garden salad/dressing\, whole grain roll\, applesauce\, choice of milk.
URL:https://www.diocesealex.org/old/event/lunch-735/
LOCATION:LA\, United States
CATEGORIES:Schools
GEO:30.9842977;-91.9623327
END:VEVENT
BEGIN:VEVENT
DTSTART;TZID=America/Chicago:20230331T070000
DTEND;TZID=America/Chicago:20230331T073000
DTSTAMP:20260425T202816
CREATED:20230308T202251Z
LAST-MODIFIED:20230308T202251Z
UID:10002410-1680246000-1680247800@www.diocesealex.org
SUMMARY:Breakfast
DESCRIPTION:Today’s choices for breakfast include: Choice of cereal\, peaches\, choice of milk.
URL:https://www.diocesealex.org/old/event/breakfast-737/
LOCATION:LA\, United States
CATEGORIES:Schools
GEO:30.9842977;-91.9623327
END:VEVENT
END:VCALENDAR