BEGIN:VCALENDAR
VERSION:2.0
PRODID:-//Diocese of Alexandria - ECPv6.5.1.5//NONSGML v1.0//EN
CALSCALE:GREGORIAN
METHOD:PUBLISH
X-WR-CALNAME:Diocese of Alexandria
X-ORIGINAL-URL:https://www.diocesealex.org/old
X-WR-CALDESC:Events for Diocese of Alexandria
REFRESH-INTERVAL;VALUE=DURATION:PT1H
X-Robots-Tag:noindex
X-PUBLISHED-TTL:PT1H
BEGIN:VTIMEZONE
TZID:America/Chicago
BEGIN:DAYLIGHT
TZOFFSETFROM:-0600
TZOFFSETTO:-0500
TZNAME:CDT
DTSTART:20230312T080000
END:DAYLIGHT
BEGIN:STANDARD
TZOFFSETFROM:-0500
TZOFFSETTO:-0600
TZNAME:CST
DTSTART:20231105T070000
END:STANDARD
BEGIN:DAYLIGHT
TZOFFSETFROM:-0600
TZOFFSETTO:-0500
TZNAME:CDT
DTSTART:20240310T080000
END:DAYLIGHT
BEGIN:STANDARD
TZOFFSETFROM:-0500
TZOFFSETTO:-0600
TZNAME:CST
DTSTART:20241103T070000
END:STANDARD
BEGIN:DAYLIGHT
TZOFFSETFROM:-0600
TZOFFSETTO:-0500
TZNAME:CDT
DTSTART:20250309T080000
END:DAYLIGHT
BEGIN:STANDARD
TZOFFSETFROM:-0500
TZOFFSETTO:-0600
TZNAME:CST
DTSTART:20251102T070000
END:STANDARD
END:VTIMEZONE
BEGIN:VEVENT
DTSTART;VALUE=DATE:20251127
DTEND;VALUE=DATE:20251128
DTSTAMP:20260425T185838
CREATED:20230628T150049Z
LAST-MODIFIED:20240526T135759Z
UID:10000293-1764201600-1764287999@www.diocesealex.org
SUMMARY:Thanksgiving Day
DESCRIPTION:Rejoice always. Pray without ceasing. In all circumstances give thanks\, for this is the will of God for you in Christ Jesus. ~ 1 Thessalionians 5:16-18
URL:https://www.diocesealex.org/old/event/thanksgiving-day-2022-11-22-2/
LOCATION:LA\, United States
CATEGORIES:Campus Ministry,Export,General,Liturgical,Schools
GEO:30.9842977;-91.9623327
END:VEVENT
BEGIN:VEVENT
DTSTART;VALUE=DATE:20241128
DTEND;VALUE=DATE:20241129
DTSTAMP:20260425T185838
CREATED:20230628T150049Z
LAST-MODIFIED:20240526T135759Z
UID:10000292-1732752000-1732838399@www.diocesealex.org
SUMMARY:Thanksgiving Day
DESCRIPTION:Rejoice always. Pray without ceasing. In all circumstances give thanks\, for this is the will of God for you in Christ Jesus. ~ 1 Thessalionians 5:16-18
URL:https://www.diocesealex.org/old/event/thanksgiving-day-2022-11-22-2/
LOCATION:LA\, United States
CATEGORIES:Campus Ministry,Export,General,Liturgical,Schools
GEO:30.9842977;-91.9623327
END:VEVENT
BEGIN:VEVENT
DTSTART;VALUE=DATE:20240331
DTEND;VALUE=DATE:20240401
DTSTAMP:20260425T185838
CREATED:20230628T151145Z
LAST-MODIFIED:20230628T151145Z
UID:10002491-1711843200-1711929599@www.diocesealex.org
SUMMARY:Easter
DESCRIPTION:
URL:https://www.diocesealex.org/old/event/easter-4/
LOCATION:LA\, United States
CATEGORIES:ACTS Retreats,Campus Ministry,General,Liturgical,Schools
GEO:30.9842977;-91.9623327
END:VEVENT
BEGIN:VEVENT
DTSTART;VALUE=DATE:20240329
DTEND;VALUE=DATE:20240406
DTSTAMP:20260425T185838
CREATED:20230628T151004Z
LAST-MODIFIED:20230628T151004Z
UID:10002489-1711670400-1712361599@www.diocesealex.org
SUMMARY:Easter Holiday
DESCRIPTION:No classes for the Catholic Schools in the Diocese of Alexandria.
URL:https://www.diocesealex.org/old/event/easter-holiday-2/
LOCATION:LA\, United States
CATEGORIES:Schools
GEO:30.9842977;-91.9623327
END:VEVENT
BEGIN:VEVENT
DTSTART;VALUE=DATE:20240329
DTEND;VALUE=DATE:20240330
DTSTAMP:20260425T185838
CREATED:20230628T151048Z
LAST-MODIFIED:20230628T151048Z
UID:10002490-1711670400-1711756799@www.diocesealex.org
SUMMARY:Good Friday
DESCRIPTION:
URL:https://www.diocesealex.org/old/event/good-friday-4/
LOCATION:LA\, United States
CATEGORIES:ACTS Retreats,Campus Ministry,General,Liturgical,Schools
GEO:30.9842977;-91.9623327
END:VEVENT
BEGIN:VEVENT
DTSTART;VALUE=DATE:20240212
DTEND;VALUE=DATE:20240214
DTSTAMP:20260425T185838
CREATED:20230628T150901Z
LAST-MODIFIED:20230628T150901Z
UID:10002488-1707696000-1707868799@www.diocesealex.org
SUMMARY:Mardi Gras Holiday
DESCRIPTION:No classes for Catholic Schools in the Diocese of Alexandria.
URL:https://www.diocesealex.org/old/event/mardi-gras-holiday-3/
LOCATION:LA\, United States
CATEGORIES:Schools
GEO:30.9842977;-91.9623327
END:VEVENT
BEGIN:VEVENT
DTSTART;VALUE=DATE:20240115
DTEND;VALUE=DATE:20240116
DTSTAMP:20260425T185838
CREATED:20230628T150757Z
LAST-MODIFIED:20230628T150757Z
UID:10002487-1705276800-1705363199@www.diocesealex.org
SUMMARY:MLK Day Holiday
DESCRIPTION:No classes for Catholic Schools in the Diocese of Alexandria.
URL:https://www.diocesealex.org/old/event/mlk-day-holiday/
LOCATION:LA\, United States
CATEGORIES:Schools
GEO:30.9842977;-91.9623327
END:VEVENT
BEGIN:VEVENT
DTSTART;VALUE=DATE:20231221
DTEND;VALUE=DATE:20240104
DTSTAMP:20260425T185838
CREATED:20230628T150333Z
LAST-MODIFIED:20230628T152909Z
UID:10002484-1703116800-1704326399@www.diocesealex.org
SUMMARY:Christmas Holiday for select schools
DESCRIPTION:The Christmas break for Sacred Heart School in Moreauville\, St. Anthony of Padua in Bunkie\, St. Mary’s Catholic School in Natchitoches\, Holy Savior Menard\, Our Lady of Prompt Succor and St. Frances Cabrini schools in Alexandria.
URL:https://www.diocesealex.org/old/event/christmas-holiday-for-select-schools/
LOCATION:LA\, United States
CATEGORIES:Schools
GEO:30.9842977;-91.9623327
END:VEVENT
BEGIN:VEVENT
DTSTART;VALUE=DATE:20231123
DTEND;VALUE=DATE:20231124
DTSTAMP:20260425T185838
CREATED:20230628T145831Z
LAST-MODIFIED:20230628T145850Z
UID:10000291-1700697600-1700783999@www.diocesealex.org
SUMMARY:Thanksgiving Day
DESCRIPTION:Rejoice always. Pray without ceasing. In all circumstances give thanks\, for this is the will of God for you in Christ Jesus. ~ 1 Thessalionians 5:16-18
URL:https://www.diocesealex.org/old/event/thanksgiving-day/
LOCATION:LA\, United States
CATEGORIES:Campus Ministry,General,Liturgical,Schools
GEO:30.9842977;-91.9623327
END:VEVENT
BEGIN:VEVENT
DTSTART;VALUE=DATE:20231120
DTEND;VALUE=DATE:20231125
DTSTAMP:20260425T185838
CREATED:20230628T145510Z
LAST-MODIFIED:20230628T145510Z
UID:10002483-1700438400-1700870399@www.diocesealex.org
SUMMARY:Thanksgiving Holiday
DESCRIPTION:No classes for all Catholic Schools in the Diocese of Alexandria.
URL:https://www.diocesealex.org/old/event/thanksgiving-holiday-4/
LOCATION:LA\, United States
CATEGORIES:Schools
GEO:30.9842977;-91.9623327
END:VEVENT
BEGIN:VEVENT
DTSTART;VALUE=DATE:20231110
DTEND;VALUE=DATE:20231111
DTSTAMP:20260425T185838
CREATED:20230628T145344Z
LAST-MODIFIED:20230628T145344Z
UID:10002482-1699574400-1699660799@www.diocesealex.org
SUMMARY:No classes (except Natchitoches)
DESCRIPTION:Veterans Day. No classes for all Catholic Schools in the Diocese of Alexandria\, except St. Mary’s Catholic School in Natchitoches will hold a normal day of classes.
URL:https://www.diocesealex.org/old/event/no-classes-except-natchitoches/
LOCATION:LA\, United States
CATEGORIES:Schools
GEO:30.9842977;-91.9623327
END:VEVENT
BEGIN:VEVENT
DTSTART;VALUE=DATE:20231020
DTEND;VALUE=DATE:20231021
DTSTAMP:20260425T185838
CREATED:20230628T145208Z
LAST-MODIFIED:20230628T152159Z
UID:10002481-1697760000-1697846399@www.diocesealex.org
SUMMARY:No classes (half day Cottonport)
DESCRIPTION:No classes for all Catholic Schools in the Diocese of Alexandria\, except St. Mary’s Assumption School in Cottonport will hold a half day of classes.
URL:https://www.diocesealex.org/old/event/no-classes-except-cottonport/
LOCATION:LA\, United States
CATEGORIES:Schools
GEO:30.9842977;-91.9623327
END:VEVENT
BEGIN:VEVENT
DTSTART;VALUE=DATE:20230904
DTEND;VALUE=DATE:20230905
DTSTAMP:20260425T185838
CREATED:20230628T145043Z
LAST-MODIFIED:20230628T145043Z
UID:10002480-1693785600-1693871999@www.diocesealex.org
SUMMARY:Labor Day Holiday
DESCRIPTION:No classes for all Catholic Schools in the Diocese of Alexandria.
URL:https://www.diocesealex.org/old/event/labor-day-holiday/
LOCATION:LA\, United States
CATEGORIES:Schools
GEO:30.9842977;-91.9623327
END:VEVENT
BEGIN:VEVENT
DTSTART;TZID=America/Chicago:20230901T110000
DTEND;TZID=America/Chicago:20230901T130000
DTSTAMP:20260425T185838
CREATED:20230810T202927Z
LAST-MODIFIED:20230810T202927Z
UID:10002538-1693566000-1693573200@www.diocesealex.org
SUMMARY:Lunch
DESCRIPTION:Today’s choices for lunch include: Hot dogs with chili\, garden salad/dressing\, tortilla chips\, applesauce\, choice of milk.
URL:https://www.diocesealex.org/old/event/lunch-765/
LOCATION:LA\, United States
CATEGORIES:Schools
GEO:30.9842977;-91.9623327
END:VEVENT
BEGIN:VEVENT
DTSTART;TZID=America/Chicago:20230901T070000
DTEND;TZID=America/Chicago:20230901T073000
DTSTAMP:20260425T185838
CREATED:20230810T195935Z
LAST-MODIFIED:20230810T195935Z
UID:10002522-1693551600-1693553400@www.diocesealex.org
SUMMARY:Breakfast
DESCRIPTION:Today’s choices for breakfast include: Choice of cereal\, applesauce\, choice of milk.
URL:https://www.diocesealex.org/old/event/breakfast-767/
LOCATION:LA\, United States
CATEGORIES:Schools
GEO:30.9842977;-91.9623327
END:VEVENT
BEGIN:VEVENT
DTSTART;TZID=America/Chicago:20230831T110000
DTEND;TZID=America/Chicago:20230831T130000
DTSTAMP:20260425T185838
CREATED:20230810T202758Z
LAST-MODIFIED:20230810T202758Z
UID:10002537-1693479600-1693486800@www.diocesealex.org
SUMMARY:Lunch
DESCRIPTION:Today’s choices for lunch include: Pork roast with rice\, green beans\, sweet potatoes\, mixed fruit\, whole grain rolls\, choice of milk.
URL:https://www.diocesealex.org/old/event/lunch-764/
LOCATION:LA\, United States
CATEGORIES:Schools
GEO:30.9842977;-91.9623327
END:VEVENT
BEGIN:VEVENT
DTSTART;TZID=America/Chicago:20230831T070000
DTEND;TZID=America/Chicago:20230831T073000
DTSTAMP:20260425T185838
CREATED:20230810T195831Z
LAST-MODIFIED:20230810T195831Z
UID:10002521-1693465200-1693467000@www.diocesealex.org
SUMMARY:Breakfast
DESCRIPTION:Today’s choices for breakfast include: Apple cinnamon muffin\, mixed fruit\, choice of milk\, choice of juice.
URL:https://www.diocesealex.org/old/event/breakfast-766/
LOCATION:LA\, United States
CATEGORIES:Schools
GEO:30.9842977;-91.9623327
END:VEVENT
BEGIN:VEVENT
DTSTART;TZID=America/Chicago:20230830T110000
DTEND;TZID=America/Chicago:20230830T130000
DTSTAMP:20260425T185838
CREATED:20230810T202608Z
LAST-MODIFIED:20230810T202608Z
UID:10002536-1693393200-1693400400@www.diocesealex.org
SUMMARY:Lunch
DESCRIPTION:Today’s choices for lunch include: Beef & cheese macaroni pasta\, steamed broccoli\, garden salad/dressing\, whole grain roll\, diced pears and choice of milk.
URL:https://www.diocesealex.org/old/event/lunch-763/
LOCATION:LA\, United States
CATEGORIES:Schools
GEO:30.9842977;-91.9623327
END:VEVENT
BEGIN:VEVENT
DTSTART;TZID=America/Chicago:20230830T070000
DTEND;TZID=America/Chicago:20230830T073000
DTSTAMP:20260425T185838
CREATED:20230810T195734Z
LAST-MODIFIED:20230810T195734Z
UID:10002520-1693378800-1693380600@www.diocesealex.org
SUMMARY:Breakfast
DESCRIPTION:Today’s choices for breakfast include: Whole grain waffles and syrup\, diced pears\, choice of milk\, choice of juice.
URL:https://www.diocesealex.org/old/event/breakfast-765/
LOCATION:LA\, United States
CATEGORIES:Schools
GEO:30.9842977;-91.9623327
END:VEVENT
BEGIN:VEVENT
DTSTART;TZID=America/Chicago:20230829T110000
DTEND;TZID=America/Chicago:20230829T130000
DTSTAMP:20260425T185838
CREATED:20230810T202407Z
LAST-MODIFIED:20230810T202407Z
UID:10002535-1693306800-1693314000@www.diocesealex.org
SUMMARY:Lunch
DESCRIPTION:Today’s choices for lunch include: White beans and rice with ham\, steamed cabbage\, cornbread\, sliced peaches\, choice of milk.
URL:https://www.diocesealex.org/old/event/lunch-762/
LOCATION:LA\, United States
CATEGORIES:Schools
GEO:30.9842977;-91.9623327
END:VEVENT
BEGIN:VEVENT
DTSTART;TZID=America/Chicago:20230829T070000
DTEND;TZID=America/Chicago:20230829T073000
DTSTAMP:20260425T185838
CREATED:20230810T195630Z
LAST-MODIFIED:20230810T195630Z
UID:10002519-1693292400-1693294200@www.diocesealex.org
SUMMARY:Breakfast
DESCRIPTION:Today’s choices for breakfast include: Turkey ham\, grits\, peaches\, choice of milk.
URL:https://www.diocesealex.org/old/event/breakfast-764/
LOCATION:LA\, United States
CATEGORIES:Schools
GEO:30.9842977;-91.9623327
END:VEVENT
BEGIN:VEVENT
DTSTART;TZID=America/Chicago:20230828T110000
DTEND;TZID=America/Chicago:20230828T130000
DTSTAMP:20260425T185838
CREATED:20230810T202310Z
LAST-MODIFIED:20230810T202310Z
UID:10002534-1693220400-1693227600@www.diocesealex.org
SUMMARY:Lunch
DESCRIPTION:Today’s choices for lunch include: Chicken fajita soft tacos\, steamed corn\, garden salad/dressing\, mixed fruit\, choice of milk.
URL:https://www.diocesealex.org/old/event/lunch-761/
LOCATION:LA\, United States
CATEGORIES:Schools
GEO:30.9842977;-91.9623327
END:VEVENT
BEGIN:VEVENT
DTSTART;TZID=America/Chicago:20230828T070000
DTEND;TZID=America/Chicago:20230828T073000
DTSTAMP:20260425T185838
CREATED:20230810T195213Z
LAST-MODIFIED:20230810T195213Z
UID:10002518-1693206000-1693207800@www.diocesealex.org
SUMMARY:Breakfast
DESCRIPTION:Today’s choices for breakfast include: Sausage pancake on a stick and syrup\, mixed fruit\, choice of milk\, choice of juice.
URL:https://www.diocesealex.org/old/event/breakfast-763/
LOCATION:LA\, United States
CATEGORIES:Schools
GEO:30.9842977;-91.9623327
END:VEVENT
BEGIN:VEVENT
DTSTART;TZID=America/Chicago:20230825T110000
DTEND;TZID=America/Chicago:20230825T130000
DTSTAMP:20260425T185838
CREATED:20230810T202050Z
LAST-MODIFIED:20230810T202050Z
UID:10002533-1692961200-1692968400@www.diocesealex.org
SUMMARY:Lunch
DESCRIPTION:Today’s choices for lunch include: Hamburgers\, french fries\, stacked salad\, applesauce\, choice of milk.
URL:https://www.diocesealex.org/old/event/lunch-760/
LOCATION:LA\, United States
CATEGORIES:Schools
GEO:30.9842977;-91.9623327
END:VEVENT
BEGIN:VEVENT
DTSTART;TZID=America/Chicago:20230825T070000
DTEND;TZID=America/Chicago:20230825T073000
DTSTAMP:20260425T185838
CREATED:20230810T193331Z
LAST-MODIFIED:20230810T193331Z
UID:10002517-1692946800-1692948600@www.diocesealex.org
SUMMARY:Breakfast
DESCRIPTION:Today’s choices for breakfast include: Choice of cereal\, applesauce\, choice of milk\, choice of milk.
URL:https://www.diocesealex.org/old/event/breakfast-762/
LOCATION:LA\, United States
CATEGORIES:Schools
GEO:30.9842977;-91.9623327
END:VEVENT
BEGIN:VEVENT
DTSTART;TZID=America/Chicago:20230824T110000
DTEND;TZID=America/Chicago:20230824T130000
DTSTAMP:20260425T185838
CREATED:20230810T201959Z
LAST-MODIFIED:20230810T201959Z
UID:10002532-1692874800-1692882000@www.diocesealex.org
SUMMARY:Lunch
DESCRIPTION:Today’s choices for lunch include: Meatloaf and mashed potatoes\, green peas\, whole grain roll\, sliced peaches\, choice of milk.
URL:https://www.diocesealex.org/old/event/lunch-759/
LOCATION:LA\, United States
CATEGORIES:Schools
GEO:30.9842977;-91.9623327
END:VEVENT
BEGIN:VEVENT
DTSTART;TZID=America/Chicago:20230824T070000
DTEND;TZID=America/Chicago:20230824T073000
DTSTAMP:20260425T185838
CREATED:20230810T193204Z
LAST-MODIFIED:20230810T193204Z
UID:10002516-1692860400-1692862200@www.diocesealex.org
SUMMARY:Breakfast
DESCRIPTION:Today’s choices for breakfast include: French toast sticks and syrup\, peaches\, choice of milk\, choice of juice.
URL:https://www.diocesealex.org/old/event/breakfast-761/
LOCATION:LA\, United States
CATEGORIES:Schools
GEO:30.9842977;-91.9623327
END:VEVENT
BEGIN:VEVENT
DTSTART;TZID=America/Chicago:20230823T110000
DTEND;TZID=America/Chicago:20230823T130000
DTSTAMP:20260425T185838
CREATED:20230810T201851Z
LAST-MODIFIED:20230810T201851Z
UID:10002531-1692788400-1692795600@www.diocesealex.org
SUMMARY:Lunch
DESCRIPTION:Today’s choices for lunch include: Pepperoni pizza\, steamed corn\, garden salad/dressing\, diced pears\, choice of milk.
URL:https://www.diocesealex.org/old/event/lunch-758/
LOCATION:LA\, United States
CATEGORIES:Schools
GEO:30.9842977;-91.9623327
END:VEVENT
BEGIN:VEVENT
DTSTART;TZID=America/Chicago:20230823T070000
DTEND;TZID=America/Chicago:20230823T073000
DTSTAMP:20260425T185838
CREATED:20230810T193057Z
LAST-MODIFIED:20230810T193057Z
UID:10002515-1692774000-1692775800@www.diocesealex.org
SUMMARY:Breakfast
DESCRIPTION:Today’s choices for breakfast include: Blueberry muffin\, diced pears\, choice of milk\, choice of juice.
URL:https://www.diocesealex.org/old/event/breakfast-760/
LOCATION:LA\, United States
CATEGORIES:Schools
GEO:30.9842977;-91.9623327
END:VEVENT
BEGIN:VEVENT
DTSTART;TZID=America/Chicago:20230822T110000
DTEND;TZID=America/Chicago:20230822T130000
DTSTAMP:20260425T185838
CREATED:20230810T201737Z
LAST-MODIFIED:20230810T201737Z
UID:10002530-1692702000-1692709200@www.diocesealex.org
SUMMARY:Lunch
DESCRIPTION:Today’s choices for lunch include: Red beans and rice with ham\, mustard greens\, cornbread\, mixed fruit\, choice of milk.
URL:https://www.diocesealex.org/old/event/lunch-757/
LOCATION:LA\, United States
CATEGORIES:Schools
GEO:30.9842977;-91.9623327
END:VEVENT
END:VCALENDAR