BEGIN:VCALENDAR
VERSION:2.0
PRODID:-//Diocese of Alexandria - ECPv6.5.1.5//NONSGML v1.0//EN
CALSCALE:GREGORIAN
METHOD:PUBLISH
X-WR-CALNAME:Diocese of Alexandria
X-ORIGINAL-URL:https://www.diocesealex.org/old
X-WR-CALDESC:Events for Diocese of Alexandria
REFRESH-INTERVAL;VALUE=DURATION:PT1H
X-Robots-Tag:noindex
X-PUBLISHED-TTL:PT1H
BEGIN:VTIMEZONE
TZID:America/Chicago
BEGIN:DAYLIGHT
TZOFFSETFROM:-0600
TZOFFSETTO:-0500
TZNAME:CDT
DTSTART:20200308T080000
END:DAYLIGHT
BEGIN:STANDARD
TZOFFSETFROM:-0500
TZOFFSETTO:-0600
TZNAME:CST
DTSTART:20201101T070000
END:STANDARD
BEGIN:DAYLIGHT
TZOFFSETFROM:-0600
TZOFFSETTO:-0500
TZNAME:CDT
DTSTART:20210314T080000
END:DAYLIGHT
BEGIN:STANDARD
TZOFFSETFROM:-0500
TZOFFSETTO:-0600
TZNAME:CST
DTSTART:20211107T070000
END:STANDARD
END:VTIMEZONE
BEGIN:VEVENT
DTSTART;VALUE=DATE:20210402
DTEND;VALUE=DATE:20210403
DTSTAMP:20260425T221425
CREATED:20210225T162809Z
LAST-MODIFIED:20210225T162809Z
UID:10001649-1617321600-1617407999@www.diocesealex.org
SUMMARY:Good Friday
DESCRIPTION:
URL:https://www.diocesealex.org/old/event/good-friday-3/
LOCATION:LA\, United States
CATEGORIES:Campus Ministry,General,Liturgical,Schools
GEO:30.9842977;-91.9623327
END:VEVENT
BEGIN:VEVENT
DTSTART;VALUE=DATE:20210401
DTEND;VALUE=DATE:20210402
DTSTAMP:20260425T221425
CREATED:20210225T162646Z
LAST-MODIFIED:20210225T162730Z
UID:10001648-1617235200-1617321599@www.diocesealex.org
SUMMARY:Holy Thursday
DESCRIPTION:
URL:https://www.diocesealex.org/old/event/holy-thursday/
LOCATION:LA\, United States
CATEGORIES:Campus Ministry,General,Liturgical,Schools
GEO:30.9842977;-91.9623327
END:VEVENT
BEGIN:VEVENT
DTSTART;VALUE=DATE:20210328
DTEND;VALUE=DATE:20210329
DTSTAMP:20260425T221425
CREATED:20210225T163034Z
LAST-MODIFIED:20210225T163112Z
UID:10001655-1616889600-1616975999@www.diocesealex.org
SUMMARY:Palm Sunday
DESCRIPTION:
URL:https://www.diocesealex.org/old/event/palm-sunday-2/
LOCATION:LA\, United States
CATEGORIES:Campus Ministry,General,Liturgical,Schools
GEO:30.9842977;-91.9623327
END:VEVENT
BEGIN:VEVENT
DTSTART;VALUE=DATE:20210319
DTEND;VALUE=DATE:20210320
DTSTAMP:20260425T221425
CREATED:20180823T145513Z
LAST-MODIFIED:20180823T145513Z
UID:10000322-1616112000-1616198399@www.diocesealex.org
SUMMARY:Solemnity of St. Joseph
DESCRIPTION:Solemnity of St. Joseph\, spouse of the Blessed Virgin Mary.
URL:https://www.diocesealex.org/old/event/solemnity-of-st-joseph/2021-03-19/
LOCATION:LA
CATEGORIES:General,Liturgical
END:VEVENT
BEGIN:VEVENT
DTSTART;TZID=America/Chicago:20210318T180000
DTEND;TZID=America/Chicago:20210318T200000
DTSTAMP:20260425T221425
CREATED:20210225T150521Z
LAST-MODIFIED:20210225T150521Z
UID:10001646-1616090400-1616097600@www.diocesealex.org
SUMMARY:VIRTUS Awareness Training\, Bunkie
DESCRIPTION:• 6:00 p.m. — St. Anthony of Padua School (cafeteria)\, BUNKIE \nTo pre-register\, go to virtus.org\, and click on First Time Registrant (on left side of screen) to begin the registration process. For more information\, call 318-445-6424 ext. 213.
URL:https://www.diocesealex.org/old/event/virtus-awareness-training-bunkie-3/
LOCATION:St. Anthony of Padua School\, 116 S. Knoll Ave.\, Bunkie\, LA\, 71322\, United States
CATEGORIES:General
GEO:30.9529066;-92.1901187
X-APPLE-STRUCTURED-LOCATION;VALUE=URI;X-ADDRESS=St. Anthony of Padua School 116 S. Knoll Ave. Bunkie LA 71322 United States;X-APPLE-RADIUS=500;X-TITLE=116 S. Knoll Ave.:geo:-92.1901187,30.9529066
END:VEVENT
BEGIN:VEVENT
DTSTART;TZID=America/Chicago:20210309T180000
DTEND;TZID=America/Chicago:20210309T203000
DTSTAMP:20260425T221425
CREATED:20210126T155143Z
LAST-MODIFIED:20210126T155143Z
UID:10001601-1615312800-1615321800@www.diocesealex.org
SUMMARY:VIRTUS Awareness Training\, Alexandria
DESCRIPTION:• 6:00 p.m. – St. Joseph Catholic Center\, 4400 Coliseum Blvd. ALEXANDRIA\, LA \nTo pre-register\, go to virtus.org\, and click on First Time Registrant (on left side of screen) to begin the registration process. For more information\, call 318-445-6424 ext. 213.
URL:https://www.diocesealex.org/old/event/virtus-awareness-training-alexandria-24/
LOCATION:St. Joseph Catholic Center\, 4400 Coliseum Blvd.\, Alexandria\, LA\, 71303\, United States
CATEGORIES:General
END:VEVENT
BEGIN:VEVENT
DTSTART;TZID=America/Chicago:20210218T180000
DTEND;TZID=America/Chicago:20210218T200000
DTSTAMP:20260425T221425
CREATED:20210104T145906Z
LAST-MODIFIED:20210217T173909Z
UID:10001560-1613671200-1613678400@www.diocesealex.org
SUMMARY:CANCELLED VIRTUS Awareness Training\, Natchitoches
DESCRIPTION:• 6:00 p.m. — Minor Basilica of the Immaculate Conception (Church Hall)\, NATCHITOCHES \nTo pre-register\, go to virtus.org\, and click on First Time Registrant (on left side of screen) to begin the registration process. For more information\, call 318-445-6424 ext. 213.
URL:https://www.diocesealex.org/old/event/virtus-awareness-training-natchitoches-16/
LOCATION:Minor Basilica of the Immaculate Conception\, 145 Church Street\, Natchitoches\, LA\, 71457\, United States
CATEGORIES:General
END:VEVENT
BEGIN:VEVENT
DTSTART;VALUE=DATE:20210217
DTEND;VALUE=DATE:20210218
DTSTAMP:20260425T221425
CREATED:20210125T200441Z
LAST-MODIFIED:20210125T200441Z
UID:10001576-1613520000-1613606399@www.diocesealex.org
SUMMARY:Ash Wednesday
DESCRIPTION:
URL:https://www.diocesealex.org/old/event/ash-wednesday-3/
LOCATION:LA\, United States
CATEGORIES:Campus Ministry,General,Liturgical,Schools
GEO:30.9842977;-91.9623327
END:VEVENT
BEGIN:VEVENT
DTSTART;TZID=America/Chicago:20210202T180000
DTEND;TZID=America/Chicago:20210202T200000
DTSTAMP:20260425T221425
CREATED:20210112T153433Z
LAST-MODIFIED:20210112T153433Z
UID:10001585-1612288800-1612296000@www.diocesealex.org
SUMMARY:VIRTUS Awareness Training\, Alexandria
DESCRIPTION:• 6:00 p.m. — St. Joseph Catholic Center\, 4400 Coliseum Blvd.\, ALEXANDRIA \nTo pre-register\, go to virtus.org\, and click on First Time Registrant (on left side of screen) to begin the registration process. For more information\, call 318-445-6424 ext. 213.
URL:https://www.diocesealex.org/old/event/virtus-awareness-training-alexandria-23/
LOCATION:St. Joseph Catholic Center\, 4400 Coliseum Blvd.\, Alexandria\, LA\, 71303\, United States
CATEGORIES:General
END:VEVENT
BEGIN:VEVENT
DTSTART;TZID=America/Chicago:20210126T180000
DTEND;TZID=America/Chicago:20210126T200000
DTSTAMP:20260425T221425
CREATED:20210104T150202Z
LAST-MODIFIED:20210104T150251Z
UID:10001604-1611684000-1611691200@www.diocesealex.org
SUMMARY:VIRTUS Awareness Training\, Moreauville
DESCRIPTION:• 6:00 p.m. — Sacred Heart School\, MOREAUVILLE \nTo pre-register\, go to virtus.org\, and click on First Time Registrant (on left side of screen) to begin the registration process. For more information\, call 318-445-6424 ext. 213.
URL:https://www.diocesealex.org/old/event/12588/
LOCATION:Sacred Heart School\, 9968 Bayou des Glaises\, Moreauville\, LA\, 71355\, United States
CATEGORIES:General
GEO:31.0368056;-91.9769818
X-APPLE-STRUCTURED-LOCATION;VALUE=URI;X-ADDRESS=Sacred Heart School 9968 Bayou des Glaises Moreauville LA 71355 United States;X-APPLE-RADIUS=500;X-TITLE=9968 Bayou des Glaises:geo:-91.9769818,31.0368056
END:VEVENT
BEGIN:VEVENT
DTSTART;TZID=America/Chicago:20210112T180000
DTEND;TZID=America/Chicago:20210112T200000
DTSTAMP:20260425T221425
CREATED:20210104T150051Z
LAST-MODIFIED:20210112T153325Z
UID:10001569-1610474400-1610481600@www.diocesealex.org
SUMMARY:CANCELLED: VIRTUS Awareness Training\, Alexandria
DESCRIPTION:• 6:00 p.m. — St. Joseph Catholic Center\, 4400 Coliseum Blvd.\, ALEXANDRIA \nTo pre-register\, go to virtus.org\, and click on First Time Registrant (on left side of screen) to begin the registration process. For more information\, call 318-445-6424 ext. 213.
URL:https://www.diocesealex.org/old/event/virtus-awareness-training-alexandria-22/
LOCATION:St. Joseph Catholic Center\, 4400 Coliseum Blvd.\, Alexandria\, LA\, 71303\, United States
CATEGORIES:General
END:VEVENT
BEGIN:VEVENT
DTSTART;VALUE=DATE:20210101
DTEND;VALUE=DATE:20210102
DTSTAMP:20260425T221425
CREATED:20180823T144637Z
LAST-MODIFIED:20180823T160436Z
UID:10000305-1609459200-1609545599@www.diocesealex.org
SUMMARY:New Year's Day
DESCRIPTION:Solemnity of Mary\, The Holy Mother of God\, a holy day of obligation.
URL:https://www.diocesealex.org/old/event/new-years-day/2021-01-01/
LOCATION:LA
CATEGORIES:Campus Ministry,General,Liturgical,Schools
END:VEVENT
BEGIN:VEVENT
DTSTART;VALUE=DATE:20201225
DTEND;VALUE=DATE:20201226
DTSTAMP:20260425T221425
CREATED:20180823T142402Z
LAST-MODIFIED:20180823T142509Z
UID:10000265-1608854400-1608940799@www.diocesealex.org
SUMMARY:Christmas Day
DESCRIPTION:Solemnity of the Nativity of the Lord\, a holy day of obligation.
URL:https://www.diocesealex.org/old/event/christmas-day/2020-12-25/
LOCATION:LA
CATEGORIES:Campus Ministry,General,Liturgical,Schools
END:VEVENT
BEGIN:VEVENT
DTSTART;TZID=America/Chicago:20201215T180000
DTEND;TZID=America/Chicago:20201215T203000
DTSTAMP:20260425T221425
CREATED:20201014T184527Z
LAST-MODIFIED:20201014T184527Z
UID:10001466-1608055200-1608064200@www.diocesealex.org
SUMMARY:VIRTUS Awareness Training\, Natchitoches
DESCRIPTION:• 6:00 p.m. — Minor Basilica of the Immaculate Conception (Church Hall)\, NATCHITOCHES \nTo pre-register\, go to virtus.org\, and click on First Time Registrant (on left side of screen) to begin the registration process. For more information\, call 318-445-6424 ext. 213.
URL:https://www.diocesealex.org/old/event/virtus-awareness-training-natchitoches-15/
LOCATION:Minor Basilica of the Immaculate Conception\, 145 Church Street\, Natchitoches\, LA\, 71457\, United States
CATEGORIES:General
END:VEVENT
BEGIN:VEVENT
DTSTART;VALUE=DATE:20201212
DTEND;VALUE=DATE:20201213
DTSTAMP:20260425T221425
CREATED:20180823T144001Z
LAST-MODIFIED:20181211T194559Z
UID:10000237-1607731200-1607817599@www.diocesealex.org
SUMMARY:Feast of Our Lady of Guadalupe
DESCRIPTION:Locally\, Our Lady of Guadalupe Mission Church in Forest Hill\, will celebrate this feast day with a 5:00 p.m. Mass at the church\, in Forest Hill. There will be a dance and dinner afterwards at St. Martin Church\, Lecompte.  There will be much traditional/indigenous food\, music and dancing throughout the night.  There will not be a procession this year.\n\nOur Lady of Guadalupe is Mexico’s patron saint. This feast day is important and celebrated in Latino/Hispanic communities across the country. Many participants dress in traditional garments and the celebrations typically include large fiestas and dancing.
URL:https://www.diocesealex.org/old/event/feast-of-our-lady-of-guadalupe/2020-12-12/
LOCATION:LA\, United States
CATEGORIES:General,Liturgical
END:VEVENT
BEGIN:VEVENT
DTSTART;VALUE=DATE:20201208
DTEND;VALUE=DATE:20201209
DTSTAMP:20260425T221425
CREATED:20180823T143858Z
LAST-MODIFIED:20180823T143858Z
UID:10000225-1607385600-1607471999@www.diocesealex.org
SUMMARY:Solemnity of the Immaculate Conception of the Blessed Virgin Mary
DESCRIPTION:Patronal Feast day of the United States of America\, a holy day of obligation.
URL:https://www.diocesealex.org/old/event/solemnity-of-the-immaculate-conception-of-the-blessed-virgin-mary/2020-12-08/
LOCATION:LA
CATEGORIES:Campus Ministry,General,Liturgical,Schools
END:VEVENT
BEGIN:VEVENT
DTSTART;TZID=America/Chicago:20201203T180000
DTEND;TZID=America/Chicago:20201203T203000
DTSTAMP:20260425T221425
CREATED:20201014T163947Z
LAST-MODIFIED:20201014T164852Z
UID:10001454-1607018400-1607027400@www.diocesealex.org
SUMMARY:VIRTUS Awareness Training
DESCRIPTION:• 6:00 p.m. — St. Joseph Catholic Center\, 4400 Coliseum Blvd.\, ALEXANDRIA \nTo pre-register\, go to virtus.org\, and click on First Time Registrant (on left side of screen) to begin the registration process. For more information\, call 318-445-6424 ext. 213.
URL:https://www.diocesealex.org/old/event/virtus-awareness-training-5/
LOCATION:St. Joseph Catholic Center\, 4400 Coliseum Blvd.\, Alexandria\, LA\, 71303\, United States
CATEGORIES:General
END:VEVENT
BEGIN:VEVENT
DTSTART;TZID=America/Chicago:20201119T180000
DTEND;TZID=America/Chicago:20201119T203000
DTSTAMP:20260425T221425
CREATED:20201014T165010Z
LAST-MODIFIED:20201014T165010Z
UID:10001459-1605808800-1605817800@www.diocesealex.org
SUMMARY:VIRTUS Awareness Training\, Mansura
DESCRIPTION:• 6:00 p.m. — St. Paul the Apostle Church\, MANSURA \nTo pre-register\, go to virtus.org\, and click on First Time Registrant (on left side of screen) to begin the registration process. For more information\, call 318-445-6424 ext. 213.
URL:https://www.diocesealex.org/old/event/virtus-awareness-training-mansura-3/
LOCATION:St. Paul the Apostle Church\, 1879 Leglise St.\, Mansura\, LA\, 71350\, United States
CATEGORIES:General
END:VEVENT
BEGIN:VEVENT
DTSTART;VALUE=DATE:20201119
DTEND;VALUE=DATE:20201123
DTSTAMP:20260425T221425
CREATED:20190514T191616Z
LAST-MODIFIED:20190514T191616Z
UID:10000973-1605744000-1606089599@www.diocesealex.org
SUMMARY:ACTS Retreat for Women
DESCRIPTION:Sacred Heart of Jesus will hold an ACTS Retreat for Women from Nov. 19-22\, 2020 at Maryhill Renewal Center. For more information\, contact Cheryl Paul at (318) 308-5026 or visit www.jesusinpineville.com
URL:https://www.diocesealex.org/old/event/acts-retreat-for-women-6/
LOCATION:Maryhill Renewal Center\, 600 Maryhill Rd.\, Pineville\, LA\, 71360\, United States
CATEGORIES:General
GEO:31.3601287;-92.4255736
X-APPLE-STRUCTURED-LOCATION;VALUE=URI;X-ADDRESS=Maryhill Renewal Center 600 Maryhill Rd. Pineville LA 71360 United States;X-APPLE-RADIUS=500;X-TITLE=600 Maryhill Rd.:geo:-92.4255736,31.3601287
END:VEVENT
BEGIN:VEVENT
DTSTART;VALUE=DATE:20201102
DTEND;VALUE=DATE:20201103
DTSTAMP:20260425T221425
CREATED:20180823T143152Z
LAST-MODIFIED:20180823T143152Z
UID:10000280-1604275200-1604361599@www.diocesealex.org
SUMMARY:All Souls Day
DESCRIPTION:Commemoration of All the Faithful Departed.
URL:https://www.diocesealex.org/old/event/all-souls-day/2020-11-02/
LOCATION:LA
CATEGORIES:Campus Ministry,General,Liturgical,Schools
END:VEVENT
BEGIN:VEVENT
DTSTART;VALUE=DATE:20201101
DTEND;VALUE=DATE:20201102
DTSTAMP:20260425T221425
CREATED:20180823T142745Z
LAST-MODIFIED:20180823T143038Z
UID:10000254-1604188800-1604271599@www.diocesealex.org
SUMMARY:All Saints Day
DESCRIPTION:Solemnity  of All Saints\, a holy day of obligation.
URL:https://www.diocesealex.org/old/event/all-saints-day/2020-11-01/
LOCATION:LA
CATEGORIES:Campus Ministry,General,Liturgical,Schools
END:VEVENT
BEGIN:VEVENT
DTSTART;TZID=America/Chicago:20201027T180000
DTEND;TZID=America/Chicago:20201027T200000
DTSTAMP:20260425T221425
CREATED:20200921T181714Z
LAST-MODIFIED:20200921T181714Z
UID:10001415-1603821600-1603828800@www.diocesealex.org
SUMMARY:VIRTUS Awareness Training\, Alexandria
DESCRIPTION:• 6:00 p.m. — St. Joseph Catholic Center\, 4400 Coliseum Blvd.\, ALEXANDRIA \nTo pre-register\, go to virtus.org\, and click on First Time Registrant (on left side of screen) to begin the registration process. For more information\, call 318-445-6424 ext. 213.
URL:https://www.diocesealex.org/old/event/virtus-awareness-training-alexandria-21/
LOCATION:St. Joseph Catholic Center\, 4400 Coliseum Blvd.\, Alexandria\, LA\, 71303\, United States
CATEGORIES:General
END:VEVENT
BEGIN:VEVENT
DTSTART;TZID=America/Chicago:20201015T180000
DTEND;TZID=America/Chicago:20201015T203000
DTSTAMP:20260425T221425
CREATED:20200908T164358Z
LAST-MODIFIED:20200908T164416Z
UID:10001432-1602784800-1602793800@www.diocesealex.org
SUMMARY:VIRTUS Awareness Training\, Cottonport
DESCRIPTION:• 6:00 p.m. — St. Mary’s Assumption School\, Cottonport \nTo pre-register\, go to virtus.org\, and click on First Time Registrant (on left side of screen) to begin the registration process. For more information\, call 318-445-6424 ext. 213.
URL:https://www.diocesealex.org/old/event/virtus-awareness-training-cottonport/
LOCATION:St. Mary’s Assumption School\, Cottonport\, 850 Front Street\, Cottonport\, LA\, 71327\, United States
CATEGORIES:General
GEO:30.9870073;-92.0548186
X-APPLE-STRUCTURED-LOCATION;VALUE=URI;X-ADDRESS=St. Mary’s Assumption School Cottonport 850 Front Street Cottonport LA 71327 United States;X-APPLE-RADIUS=500;X-TITLE=850 Front Street:geo:-92.0548186,30.9870073
END:VEVENT
BEGIN:VEVENT
DTSTART;TZID=America/Chicago:20200922T180000
DTEND;TZID=America/Chicago:20200922T203000
DTSTAMP:20260425T221425
CREATED:20200813T142905Z
LAST-MODIFIED:20200813T142905Z
UID:10001362-1600797600-1600806600@www.diocesealex.org
SUMMARY:VIRTUS Awareness Training\, Alexandria
DESCRIPTION:• 6:00 p.m. — St. Joseph Catholic Center\, 4400 Coliseum Blvd\, Alexandria \nTo pre-register\, go to virtus.org\, and click on First Time Registrant (on left side of screen) to begin the registration process. For more information\, call 318-445-6424 ext. 213.
URL:https://www.diocesealex.org/old/event/virtus-awareness-training-alexandria-20/
LOCATION:St. Joseph Catholic Center\, 4400 Coliseum Blvd.\, Alexandria\, LA\, 71303\, United States
CATEGORIES:General
END:VEVENT
BEGIN:VEVENT
DTSTART;TZID=America/Chicago:20200910T180000
DTEND;TZID=America/Chicago:20200910T203000
DTSTAMP:20260425T221425
CREATED:20200824T181952Z
LAST-MODIFIED:20200824T181952Z
UID:10001365-1599760800-1599769800@www.diocesealex.org
SUMMARY:VIRTUS Awareness Training\, Plaucheville
DESCRIPTION:• 6:00 p.m. — Mater Dolorosa Church\, Plaucheville (was previously scheduled for August 25) \nTo pre-register\, go to virtus.org\, and click on First Time Registrant (on left side of screen) to begin the registration process. For more information\, call 318-445-6424 ext. 213.
URL:https://www.diocesealex.org/old/event/virtus-awareness-training-plaucheville-2/
LOCATION:Mater Dolorosa Church\, 3458 Hwy 107 S.\, Plaucheville\, LA\, 71362\, United States
CATEGORIES:General
END:VEVENT
BEGIN:VEVENT
DTSTART;TZID=America/Chicago:20200903T180000
DTEND;TZID=America/Chicago:20200903T203000
DTSTAMP:20260425T221425
CREATED:20200702T155036Z
LAST-MODIFIED:20200702T155311Z
UID:10001360-1599156000-1599165000@www.diocesealex.org
SUMMARY:VIRTUS Awareness Training\, Natchitoches
DESCRIPTION:• 6:00 p.m. — Minor Basilica of the Immaculate Conception\, NATCHITOCHES. \nTo pre-register\, go to virtus.org\, and click on First Time Registrant (on left side of screen) to begin the registration process. For more information\, call 318-445-6424 ext. 213.
URL:https://www.diocesealex.org/old/event/virtus-awareness-training-4/
LOCATION:Minor Basilica of the Immaculate Conception\, 145 Church Street\, Natchitoches\, LA\, 71457\, United States
CATEGORIES:General
END:VEVENT
BEGIN:VEVENT
DTSTART;TZID=America/Chicago:20200819T180000
DTEND;TZID=America/Chicago:20200819T203000
DTSTAMP:20260425T221425
CREATED:20200706T152852Z
LAST-MODIFIED:20200706T152852Z
UID:10001361-1597860000-1597869000@www.diocesealex.org
SUMMARY:VIRTUS Awareness Training\, Alexandria
DESCRIPTION:• 6:00 p.m. — St. Joseph Catholic Center\, 4400 Coliseum Blvd.\, ALEXANDRIA. \nTo pre-register\, go to virtus.org\, and click on First Time Registrant (on left side of screen) to begin the registration process. For more information\, call 318-445-6424 ext. 213.
URL:https://www.diocesealex.org/old/event/virtus-awareness-training-alexandria-18/
LOCATION:St. Joseph Catholic Center\, 4400 Coliseum Blvd.\, Alexandria\, LA\, 71303\, United States
CATEGORIES:General
END:VEVENT
BEGIN:VEVENT
DTSTART;VALUE=DATE:20200815
DTEND;VALUE=DATE:20200816
DTSTAMP:20260425T221425
CREATED:20180607T230824Z
LAST-MODIFIED:20180823T162241Z
UID:10000102-1597449600-1597535999@www.diocesealex.org
SUMMARY:Solemnity of the Assumption of the Blessed Virgin Mary
DESCRIPTION:Solemnity of the Assumption of the Blessed Virgin Mary\, a Holy Day of obligation.
URL:https://www.diocesealex.org/old/event/solemnity-and-holy-day-the-assumption-of-the-blessed-virgin-mary/2020-08-15/
LOCATION:LA
CATEGORIES:Campus Ministry,General,Liturgical,Schools
END:VEVENT
BEGIN:VEVENT
DTSTART;TZID=America/Chicago:20200804T130000
DTEND;TZID=America/Chicago:20200804T153000
DTSTAMP:20260425T221425
CREATED:20200707T181714Z
LAST-MODIFIED:20200707T181714Z
UID:10001363-1596546000-1596555000@www.diocesealex.org
SUMMARY:VIRTUS Awareness Training\, Alexandria
DESCRIPTION:• 1:00 p.m. — St. Joseph Catholic Center\, 4400 Coliseum Blvd.\, ALEXANDRIA. \nTo pre-register\, go to virtus.org\, and click on First Time Registrant (on left side of screen) to begin the registration process. For more information\, call 318-445-6424 ext. 213.
URL:https://www.diocesealex.org/old/event/virtus-awareness-training-alexandria-19/
LOCATION:St. Joseph Catholic Center\, 4400 Coliseum Blvd.\, Alexandria\, LA\, 71303\, United States
CATEGORIES:General
END:VEVENT
BEGIN:VEVENT
DTSTART;TZID=America/Chicago:20200721T180000
DTEND;TZID=America/Chicago:20200721T203000
DTSTAMP:20260425T221425
CREATED:20200610T185828Z
LAST-MODIFIED:20200610T185828Z
UID:10001358-1595354400-1595363400@www.diocesealex.org
SUMMARY:VIRTUS Awareness Training\, Natchitoches
DESCRIPTION:• 6:00 p.m. — Minor Basilica of the Immaculate Conception\, NATCHITOCHES. \nTo pre-register\, go to virtus.org\, and click on First Time Registrant (on left side of screen) to begin the registration process. For more information\, call 318-445-6424 ext. 213.
URL:https://www.diocesealex.org/old/event/virtus-awareness-training-natchitoches-14/
LOCATION:Minor Basilica of the Immaculate Conception\, 145 Church Street\, Natchitoches\, LA\, 71457\, United States
CATEGORIES:General
END:VEVENT
END:VCALENDAR