BEGIN:VCALENDAR
VERSION:2.0
PRODID:-//Diocese of Alexandria - ECPv6.5.1.5//NONSGML v1.0//EN
CALSCALE:GREGORIAN
METHOD:PUBLISH
X-ORIGINAL-URL:https://www.diocesealex.org/old
X-WR-CALDESC:Events for Diocese of Alexandria
REFRESH-INTERVAL;VALUE=DURATION:PT1H
X-Robots-Tag:noindex
X-PUBLISHED-TTL:PT1H
BEGIN:VTIMEZONE
TZID:America/Chicago
BEGIN:DAYLIGHT
TZOFFSETFROM:-0600
TZOFFSETTO:-0500
TZNAME:CDT
DTSTART:20220313T080000
END:DAYLIGHT
BEGIN:STANDARD
TZOFFSETFROM:-0500
TZOFFSETTO:-0600
TZNAME:CST
DTSTART:20221106T070000
END:STANDARD
BEGIN:DAYLIGHT
TZOFFSETFROM:-0600
TZOFFSETTO:-0500
TZNAME:CDT
DTSTART:20230312T080000
END:DAYLIGHT
BEGIN:STANDARD
TZOFFSETFROM:-0500
TZOFFSETTO:-0600
TZNAME:CST
DTSTART:20231105T070000
END:STANDARD
END:VTIMEZONE
BEGIN:VEVENT
DTSTART;TZID=America/Chicago:20230321T180000
DTEND;TZID=America/Chicago:20230321T203000
DTSTAMP:20260425T190322
CREATED:20230215T231434Z
LAST-MODIFIED:20230227T210423Z
UID:10002369-1679421600-1679430600@www.diocesealex.org
SUMMARY:VIRTUS Awareness Training
DESCRIPTION:6:00 p.m. – St. Joseph Catholic Center\, 4400 Coliseum Blvd.\, ALEXANDRIA \nTo pre-register\, go to virtus.org\, and click on First Time Registrant (on left side of screen) to begin the registration process. For more information\, call 318-445-6424 ext. 213. \nNOTE: Minors are not allowed to attend because of the adult content of the videos and discussions.
URL:https://www.diocesealex.org/old/event/virtus-awareness-training-12/
LOCATION:St. Joseph Catholic Center\, 4400 Coliseum Blvd.\, Alexandria\, LA\, 71303\, United States
CATEGORIES:General
END:VEVENT
BEGIN:VEVENT
DTSTART;VALUE=DATE:20230319
DTEND;VALUE=DATE:20230320
DTSTAMP:20260425T190322
CREATED:20180823T145513Z
LAST-MODIFIED:20180823T145513Z
UID:10000324-1679184000-1679270399@www.diocesealex.org
SUMMARY:Solemnity of St. Joseph
DESCRIPTION:Solemnity of St. Joseph\, spouse of the Blessed Virgin Mary.
URL:https://www.diocesealex.org/old/event/solemnity-of-st-joseph/2023-03-19/
LOCATION:LA
CATEGORIES:General,Liturgical
END:VEVENT
BEGIN:VEVENT
DTSTART;TZID=America/Chicago:20230318T100000
DTEND;TZID=America/Chicago:20230318T120000
DTSTAMP:20260425T190322
CREATED:20230227T212437Z
LAST-MODIFIED:20230227T212437Z
UID:10002386-1679133600-1679140800@www.diocesealex.org
SUMMARY:Catechetical Quiz Bowl
DESCRIPTION:The Annual Catechetical Quiz Bowl will be held Saturday\, Mar. 8 from 10:00 a.m. to 12:00 p.m. at the St. Frances Cabrini Church Activities Building. This bible knowledge quiz is for 6th\, 7th and/or 8th graders\, 4 per team. Cost is $10 per team. Pizza lunch provided. 1st prize $500 and trophy; 2nd prize $200 and trophy. To register or for a copy of the questions/answers email emccullough@cabrinischool.com or jbrooks@cabrinischool.com
URL:https://www.diocesealex.org/old/event/catechetical-quiz-bowl-2/
LOCATION:St. Frances Cabrini Church\, 2211 E. Texas Ave.\, Alexandria\, LA\, 71301\, United States
CATEGORIES:General
GEO:31.281956;-92.4558947
X-APPLE-STRUCTURED-LOCATION;VALUE=URI;X-ADDRESS=St. Frances Cabrini Church 2211 E. Texas Ave. Alexandria LA 71301 United States;X-APPLE-RADIUS=500;X-TITLE=2211 E. Texas Ave.:geo:-92.4558947,31.281956
END:VEVENT
BEGIN:VEVENT
DTSTART;TZID=America/Chicago:20230318T090000
DTEND;TZID=America/Chicago:20230318T120000
DTSTAMP:20260425T190322
CREATED:20230227T211708Z
LAST-MODIFIED:20230227T211708Z
UID:10002379-1679130000-1679140800@www.diocesealex.org
SUMMARY:EMHC Training Workshop
DESCRIPTION:The Diocese of Alexandria will be offering training workshops for those individuals who are interested\, who currently may serve\, or who have served in the past as Extraordinary Ministers of Holy Communion in their parish. To serve in this role\, one must be of good standing with their Catholic faith and need the approval of their pastor. If you have any questions\, please email or call Deacon Jason Lavergne at dcnjlavergne@diocesealex.org or 318-445-6424\, ext. 207.\nAll training workshops will present the same material and will last no longer than three hours. Please sign up for any one that best fits your schedule at the Diocese website at www.diocesealex.org. \nSaturday\, March 18 – 9:00 a.m. St. Patrick\, Ferriday \nSaturday\, March 25 – 9:00 a.m. St. Joseph\, Marksville \nSaturday\, April 15 – 9:00 a.m. St. Joseph Catholic Center Conference Room\, Alexandria
URL:https://www.diocesealex.org/old/event/emhc-training-workshop/
LOCATION:St. Patrick Church\, Ferriday\, 601 Florida Ave.\, Ferriday\, LA\, 71334\, United States
CATEGORIES:General
END:VEVENT
BEGIN:VEVENT
DTSTART;TZID=America/Chicago:20230317T190000
DTEND;TZID=America/Chicago:20230317T220000
DTSTAMP:20260425T190322
CREATED:20230227T212349Z
LAST-MODIFIED:20230227T212349Z
UID:10002385-1679079600-1679090400@www.diocesealex.org
SUMMARY:ShamRockin' FEST
DESCRIPTION:ShamRockin’ FEST will be held at Lagniappe Theatre on Friday\, Mar. 17 starting at 7:00 p.m. Dancing\, cash bar\, food\, silent auction\, pub crawl. Tickets are $50 per person. Interested in forming a drink team? Call Mallory at (985) 991-6601. To purchase tickets\, visit HSMFEST.com. All proceeds benefit Holy Savior Menard Central High School. This is not a school event and is for adults only.
URL:https://www.diocesealex.org/old/event/shamrockin-fest/
LOCATION:LA\, United States
CATEGORIES:General
GEO:30.9842977;-91.9623327
END:VEVENT
BEGIN:VEVENT
DTSTART;TZID=America/Chicago:20230315T173000
DTEND;TZID=America/Chicago:20230315T193000
DTSTAMP:20260425T190322
CREATED:20230227T210722Z
LAST-MODIFIED:20230227T211019Z
UID:10002373-1678901400-1678908600@www.diocesealex.org
SUMMARY:Lenten Adult Education Series
DESCRIPTION:• March 1\, 8\, 15\, 22 \n“I Do Believe:  Confronting Racism Through The Eyes of The Gospel” \nAt St. James Memorial Church\, Alexandria. Each evening begins with Mass at 5:30 p.m. followed by presentations/discussions until 7:30 p.m. presented by pastor Fr. Craig Scott\, VG and Sharon Metoyerjones\, retired educator of 33 years. We will: explore the roots of African-American Catholicism; present a history of racism and its causes and evils; reflect on Pastoral documents of the US Bishops\, including Brothers and Sisters To Us (1979) and its follow-up document (2004); Open Wide Our Hearts:  The Enduring Call to Love (2018); and  Radiate Christ (2020); discuss realistic ways to confront and eventually overcome racism. For more information\, contact Fr. Scott at 445-6424\, ext. 204
URL:https://www.diocesealex.org/old/event/lenten-adult-education-series/2023-03-15/
LOCATION:St. James Memorial Church\, 714 Winn Street\, Alexandria\, LA\, 71301\, United States
CATEGORIES:General
END:VEVENT
BEGIN:VEVENT
DTSTART;TZID=America/Chicago:20230314T180000
DTEND;TZID=America/Chicago:20230314T210000
DTSTAMP:20260425T190322
CREATED:20230227T211621Z
LAST-MODIFIED:20230227T211621Z
UID:10002378-1678816800-1678827600@www.diocesealex.org
SUMMARY:EMHC Training Workshops
DESCRIPTION:The Diocese of Alexandria will be offering training workshops for those individuals who are interested\, who currently may serve\, or who have served in the past as Extraordinary Ministers of Holy Communion in their parish. To serve in this role\, one must be of good standing with their Catholic faith and need the approval of their pastor. If you have any questions\, please email or call Deacon Jason Lavergne at dcnjlavergne@diocesealex.org or 318-445-6424\, ext. 207.\nAll training workshops will present the same material and will last no longer than three hours. Please sign up for any one that best fits your schedule at the Diocese website at www.diocesealex.org. \nTuesday\, March 14 – 6:00 p.m. St. Joseph Catholic Center Conference Room\, Alexandria \nSaturday\, March 18 – 9:00 a.m. St. Patrick\, Ferriday \nSaturday\, March 25 – 9:00 a.m. St. Joseph\, Marksville \nSaturday\, April 15 – 9:00 a.m. St. Joseph Catholic Center Conference Room\, Alexandria
URL:https://www.diocesealex.org/old/event/emhc-training-workshops-3/
LOCATION:St. Joseph Catholic Center\, 4400 Coliseum Blvd.\, Alexandria\, LA\, 71303\, United States
CATEGORIES:General
END:VEVENT
BEGIN:VEVENT
DTSTART;TZID=America/Chicago:20230311T093000
DTEND;TZID=America/Chicago:20230311T153000
DTSTAMP:20260425T190322
CREATED:20230227T212145Z
LAST-MODIFIED:20230227T212145Z
UID:10002383-1678527000-1678548600@www.diocesealex.org
SUMMARY:2nd Annual Women’s Day of Reflection
DESCRIPTION:The 2nd Annual Women’s Day of Reflection\, “All About Eve\,” is sponsored by St. Frances Cabrini Sanctuary Society and will take place on Saturday\, Mar. 11 from 9:30 a.m. – 3:15 p.m. in Ducote Hall at St. Frances Cabrini Church\, 2211 E. Texas Ave.\, Alexandria\, LA. Registration begins at 8:45 a.m. Speakers will be Rev. Chad Partain\, pastor and Rev. Robert Johnson\, parochial vicar. The day will end with opportunities for the Sacrament of Reconciliation from 3:30 – 4:15 p.m. and Holy Mass at 4:30 p.m. Light breakfast and lunch will be provided. Cost is $20 per person.
URL:https://www.diocesealex.org/old/event/2nd-annual-womens-day-of-reflection/
LOCATION:St. Frances Cabrini Church\, 2211 E. Texas Ave.\, Alexandria\, LA\, 71301\, United States
CATEGORIES:General
GEO:31.281956;-92.4558947
X-APPLE-STRUCTURED-LOCATION;VALUE=URI;X-ADDRESS=St. Frances Cabrini Church 2211 E. Texas Ave. Alexandria LA 71301 United States;X-APPLE-RADIUS=500;X-TITLE=2211 E. Texas Ave.:geo:-92.4558947,31.281956
END:VEVENT
BEGIN:VEVENT
DTSTART;TZID=America/Chicago:20230311T090000
DTEND;TZID=America/Chicago:20230311T120000
DTSTAMP:20260425T190322
CREATED:20230227T211524Z
LAST-MODIFIED:20230227T211524Z
UID:10002377-1678525200-1678536000@www.diocesealex.org
SUMMARY:EMHC Training Workshops
DESCRIPTION:The Diocese of Alexandria will be offering training workshops for those individuals who are interested\, who currently may serve\, or who have served in the past as Extraordinary Ministers of Holy Communion in their parish. To serve in this role\, one must be of good standing with their Catholic faith and need the approval of their pastor. If you have any questions\, please email or call Deacon Jason Lavergne at dcnjlavergne@diocesealex.org or 318-445-6424\, ext. 207.\nAll training workshops will present the same material and will last no longer than three hours. Please sign up for any one that best fits your schedule at the Diocese website at www.diocesealex.org. \nSaturday\, March 11 – 9:00 a.m. Minor Basilica of the Immaculate Conception\, Natchitoches \nTuesday\, March 14 – 6:00 p.m. St. Joseph Catholic Center Conference Room\, Alexandria \nSaturday\, March 18 – 9:00 a.m. St. Patrick\, Ferriday \nSaturday\, March 25 – 9:00 a.m. St. Joseph\, Marksville \nSaturday\, April 15 – 9:00 a.m. St. Joseph Catholic Center Conference Room\, Alexandria
URL:https://www.diocesealex.org/old/event/emhc-training-workshops-2/
LOCATION:Minor Basilica of the Immaculate Conception\, 145 Church Street\, Natchitoches\, LA\, 71457\, United States
CATEGORIES:General
END:VEVENT
BEGIN:VEVENT
DTSTART;TZID=America/Chicago:20230311T090000
DTEND;TZID=America/Chicago:20230311T100000
DTSTAMP:20260425T190322
CREATED:20230227T212245Z
LAST-MODIFIED:20230227T212245Z
UID:10002384-1678525200-1678528800@www.diocesealex.org
SUMMARY:Discalced Carmelite meeting
DESCRIPTION:The Order of the Discalced Carmelites holds its monthly meeting at 9:00 a.m. every second Saturday\, at Maryhill Renewal Center. Anyone is invited to attend morning prayer followed by Mass and then the meeting. If you are interested in Carmelite spiritual studies\, please contact Mary Jo McCoy at 318-346-6860 or 318-481-9638. **If you plan to attend……Please call Mary Jo McCoy at the numbers listed above OR Deacon Bill Travis at 318 640-2827 or 318 664-7069 and someone will meet you at the Maryhill gate.
URL:https://www.diocesealex.org/old/event/discalced-carmelite-meeting/
LOCATION:Maryhill\, LA\, United States
CATEGORIES:General
END:VEVENT
BEGIN:VEVENT
DTSTART;TZID=America/Chicago:20230309T173000
DTEND;TZID=America/Chicago:20230309T183000
DTSTAMP:20260425T190322
CREATED:20230227T212037Z
LAST-MODIFIED:20230227T212037Z
UID:10002382-1678383000-1678386600@www.diocesealex.org
SUMMARY:Heart of Kateri Circle Meeting
DESCRIPTION:The next Heart of Kateri Circle meeting will be on March 9 at the Tekakwitha Conference Center\, 2225 North Bolton Ave.\, Alexandria at 5:30 p.m.  All are welcome to attend. For more information contact Scotty Durio at (318) 483-3908 or finance@tekconf.org.
URL:https://www.diocesealex.org/old/event/heart-of-kateri-circle-meeting-3/
LOCATION:Tekakwitha National Conference Headquarters\, 2225 N. Bolton Ave.\, Alexandria\, LA\, 71303\, United States
CATEGORIES:General
END:VEVENT
BEGIN:VEVENT
DTSTART;TZID=America/Chicago:20230308T173000
DTEND;TZID=America/Chicago:20230308T193000
DTSTAMP:20260425T190322
CREATED:20230227T210722Z
LAST-MODIFIED:20230227T211019Z
UID:10002372-1678296600-1678303800@www.diocesealex.org
SUMMARY:Lenten Adult Education Series
DESCRIPTION:• March 1\, 8\, 15\, 22 \n“I Do Believe:  Confronting Racism Through The Eyes of The Gospel” \nAt St. James Memorial Church\, Alexandria. Each evening begins with Mass at 5:30 p.m. followed by presentations/discussions until 7:30 p.m. presented by pastor Fr. Craig Scott\, VG and Sharon Metoyerjones\, retired educator of 33 years. We will: explore the roots of African-American Catholicism; present a history of racism and its causes and evils; reflect on Pastoral documents of the US Bishops\, including Brothers and Sisters To Us (1979) and its follow-up document (2004); Open Wide Our Hearts:  The Enduring Call to Love (2018); and  Radiate Christ (2020); discuss realistic ways to confront and eventually overcome racism. For more information\, contact Fr. Scott at 445-6424\, ext. 204
URL:https://www.diocesealex.org/old/event/lenten-adult-education-series/2023-03-08/
LOCATION:St. James Memorial Church\, 714 Winn Street\, Alexandria\, LA\, 71301\, United States
CATEGORIES:General
END:VEVENT
BEGIN:VEVENT
DTSTART;TZID=America/Chicago:20230304T090000
DTEND;TZID=America/Chicago:20230304T120000
DTSTAMP:20260425T190322
CREATED:20230227T211445Z
LAST-MODIFIED:20230227T211445Z
UID:10002376-1677920400-1677931200@www.diocesealex.org
SUMMARY:EMHC Training Workshops
DESCRIPTION:The Diocese of Alexandria will be offering training workshops for those individuals who are interested\, who currently may serve\, or who have served in the past as Extraordinary Ministers of Holy Communion in their parish. To serve in this role\, one must be of good standing with their Catholic faith and need the approval of their pastor. If you have any questions\, please email or call Deacon Jason Lavergne at dcnjlavergne@diocesealex.org or 318-445-6424\, ext. 207.\nAll training workshops will present the same material and will last no longer than three hours. Please sign up for any one that best fits your schedule at the Diocese website at www.diocesealex.org. \nSaturday\, March 4 – 9:00 a.m. Our Lady of Prompt Succor\, Alexandria \nSaturday\, March 11 – 9:00 a.m. Minor Basilica of the Immaculate Conception\, Natchitoches \nTuesday\, March 14 – 6:00 p.m. St. Joseph Catholic Center Conference Room\, Alexandria \nSaturday\, March 18 – 9:00 a.m. St. Patrick\, Ferriday \nSaturday\, March 25 – 9:00 a.m. St. Joseph\, Marksville \nSaturday\, April 15 – 9:00 a.m. St. Joseph Catholic Center Conference Room\, Alexandria
URL:https://www.diocesealex.org/old/event/emhc-training-workshops/
LOCATION:Our Lady of Prompt Succor Church\, 2120 Elliott Street\, Alexandria\, LA\, 71301\, United States
CATEGORIES:General
END:VEVENT
BEGIN:VEVENT
DTSTART;TZID=America/Chicago:20230302T080000
DTEND;TZID=America/Chicago:20230305T170000
DTSTAMP:20260425T190322
CREATED:20230227T210829Z
LAST-MODIFIED:20230227T210829Z
UID:10002375-1677744000-1678035600@www.diocesealex.org
SUMMARY:Silent Directed Retreat
DESCRIPTION:The Diocese of Alexandria\, along with clergy\, deacons and spiritual directors are hosting a silent retreat during lent\, on March 2-5 at Maryhill. This retreat is to all men and women 18 or older\, who are seeking quiet reflective prayer time. Your time at Maryhill will include daily Mass and adoration\, daily time with a spiritual director and the sacrament of Reconciliation will be offered. The Retreat starts on Thursday night and ends Sunday at 3pm. Retreat fees of $275 include a private room on the north side of Maryhill and meals. A deposit of $75 and a registration form is needed to secure your spot. Limited availability. To register contact Renée Aldridge (318) 542-1966 at renee.aldridge1@gmail.com or Ingrid Canella at icnewell@yahoo.com.
URL:https://www.diocesealex.org/old/event/silent-directed-retreat/
LOCATION:Maryhill\, LA\, United States
CATEGORIES:General
END:VEVENT
BEGIN:VEVENT
DTSTART;TZID=America/Chicago:20230301T173000
DTEND;TZID=America/Chicago:20230301T193000
DTSTAMP:20260425T190322
CREATED:20230227T210722Z
LAST-MODIFIED:20230227T211019Z
UID:10002371-1677691800-1677699000@www.diocesealex.org
SUMMARY:Lenten Adult Education Series
DESCRIPTION:• March 1\, 8\, 15\, 22 \n“I Do Believe:  Confronting Racism Through The Eyes of The Gospel” \nAt St. James Memorial Church\, Alexandria. Each evening begins with Mass at 5:30 p.m. followed by presentations/discussions until 7:30 p.m. presented by pastor Fr. Craig Scott\, VG and Sharon Metoyerjones\, retired educator of 33 years. We will: explore the roots of African-American Catholicism; present a history of racism and its causes and evils; reflect on Pastoral documents of the US Bishops\, including Brothers and Sisters To Us (1979) and its follow-up document (2004); Open Wide Our Hearts:  The Enduring Call to Love (2018); and  Radiate Christ (2020); discuss realistic ways to confront and eventually overcome racism. For more information\, contact Fr. Scott at 445-6424\, ext. 204
URL:https://www.diocesealex.org/old/event/lenten-adult-education-series/2023-03-01/
LOCATION:St. James Memorial Church\, 714 Winn Street\, Alexandria\, LA\, 71301\, United States
CATEGORIES:General
END:VEVENT
BEGIN:VEVENT
DTSTART;TZID=America/Chicago:20230223T180000
DTEND;TZID=America/Chicago:20230223T200000
DTSTAMP:20260425T190322
CREATED:20230126T150213Z
LAST-MODIFIED:20230223T193502Z
UID:10002322-1677175200-1677182400@www.diocesealex.org
SUMMARY:CANCELLED! VIRTUS Awareness Training
DESCRIPTION:St. Mary’s Assumption\, Cottonport. \nDUE TO LOW REGISTRATION.
URL:https://www.diocesealex.org/old/event/virtus-awareness-training-9/
LOCATION:St. Mary’s Assumption School\, Cottonport\, 850 Front Street\, Cottonport\, LA\, 71327\, United States
CATEGORIES:General
GEO:30.9870073;-92.0548186
X-APPLE-STRUCTURED-LOCATION;VALUE=URI;X-ADDRESS=St. Mary’s Assumption School Cottonport 850 Front Street Cottonport LA 71327 United States;X-APPLE-RADIUS=500;X-TITLE=850 Front Street:geo:-92.0548186,30.9870073
END:VEVENT
BEGIN:VEVENT
DTSTART;TZID=America/Chicago:20230216T180000
DTEND;TZID=America/Chicago:20230216T200000
DTSTAMP:20260425T190322
CREATED:20230118T172251Z
LAST-MODIFIED:20230215T231032Z
UID:10002321-1676570400-1676577600@www.diocesealex.org
SUMMARY:CANCELLED: VIRTUS Awareness Training
DESCRIPTION:6:00 p.m. – St. Joseph Catholic Center\, 4400 Coliseum Blvd.\, ALEXANDRIA \n 
URL:https://www.diocesealex.org/old/event/virtus-awareness-training-8/
LOCATION:St. Joseph Catholic Center\, 4400 Coliseum Blvd.\, Alexandria\, LA\, 71303\, United States
CATEGORIES:General
END:VEVENT
BEGIN:VEVENT
DTSTART;TZID=America/Chicago:20230119T180000
DTEND;TZID=America/Chicago:20230119T203000
DTSTAMP:20260425T190322
CREATED:20230102T195722Z
LAST-MODIFIED:20230102T195722Z
UID:10002320-1674151200-1674160200@www.diocesealex.org
SUMMARY:VIRTUS Awareness Training\, Mansura
DESCRIPTION:6:00 p.m. – St. Paul the Apostle Church (hall/center)\, MANSURA \nTo pre-register\, go to virtus.org\, and click on First Time Registrant (on left side of screen) to begin the registration process. For more information\, call 318-445-6424 ext. 213.
URL:https://www.diocesealex.org/old/event/virtus-awareness-training-mansura-8/
LOCATION:St. Paul the Apostle Church\, 1879 Leglise St.\, Mansura\, LA\, 71350\, United States
CATEGORIES:General
END:VEVENT
BEGIN:VEVENT
DTSTART;TZID=America/Chicago:20230112T180000
DTEND;TZID=America/Chicago:20230112T200000
DTSTAMP:20260425T190322
CREATED:20221107T160133Z
LAST-MODIFIED:20221107T160133Z
UID:10002291-1673546400-1673553600@www.diocesealex.org
SUMMARY:VIRTUS Awareness Training
DESCRIPTION:6:00 p.m. – St. Joseph Catholic Center\, 4400 Coliseum Blvd.\, ALEXANDRIA \nTo pre-register\, go to virtus.org\, and click on First Time Registrant (on left side of screen) to begin the registration process. For more information\, call 318-445-6424 ext. 213.
URL:https://www.diocesealex.org/old/event/virtus-awareness-training-7/
LOCATION:St. Joseph Catholic Center\, 4400 Coliseum Blvd.\, Alexandria\, LA\, 71303\, United States
CATEGORIES:General
END:VEVENT
BEGIN:VEVENT
DTSTART;TZID=America/Chicago:20230110T180000
DTEND;TZID=America/Chicago:20230110T200000
DTSTAMP:20260425T190322
CREATED:20221107T151227Z
LAST-MODIFIED:20221107T151227Z
UID:10002290-1673373600-1673380800@www.diocesealex.org
SUMMARY:VIRTUS Awareness Training\, Natchitoches
DESCRIPTION:6:00 p.m. – Minor Basilica of the Immaculate Conception (Church Hall)\, NATCHITOCHES \nTo pre-register\, go to virtus.org\, and click on First Time Registrant (on left side of screen) to begin the registration process. For more information\, call 318-445-6424 ext. 213.
URL:https://www.diocesealex.org/old/event/virtus-awareness-training-natchitoches-27/
LOCATION:Minor Basilica of the Immaculate Conception\, 145 Church Street\, Natchitoches\, LA\, 71457\, United States
CATEGORIES:General
END:VEVENT
BEGIN:VEVENT
DTSTART;VALUE=DATE:20230101
DTEND;VALUE=DATE:20230102
DTSTAMP:20260425T190322
CREATED:20180823T144637Z
LAST-MODIFIED:20180823T160436Z
UID:10000307-1672531200-1672617599@www.diocesealex.org
SUMMARY:New Year's Day
DESCRIPTION:Solemnity of Mary\, The Holy Mother of God\, a holy day of obligation.
URL:https://www.diocesealex.org/old/event/new-years-day/2023-01-01/
LOCATION:LA
CATEGORIES:Campus Ministry,General,Liturgical,Schools
END:VEVENT
BEGIN:VEVENT
DTSTART;VALUE=DATE:20221225
DTEND;VALUE=DATE:20221226
DTSTAMP:20260425T190322
CREATED:20180823T142402Z
LAST-MODIFIED:20180823T142509Z
UID:10000267-1671926400-1672012799@www.diocesealex.org
SUMMARY:Christmas Day
DESCRIPTION:Solemnity of the Nativity of the Lord\, a holy day of obligation.
URL:https://www.diocesealex.org/old/event/christmas-day/2022-12-25/
LOCATION:LA
CATEGORIES:Campus Ministry,General,Liturgical,Schools
END:VEVENT
BEGIN:VEVENT
DTSTART;VALUE=DATE:20221212
DTEND;VALUE=DATE:20221213
DTSTAMP:20260425T190322
CREATED:20180823T144001Z
LAST-MODIFIED:20181211T194559Z
UID:10000239-1670803200-1670889599@www.diocesealex.org
SUMMARY:Feast of Our Lady of Guadalupe
DESCRIPTION:Locally\, Our Lady of Guadalupe Mission Church in Forest Hill\, will celebrate this feast day with a 5:00 p.m. Mass at the church\, in Forest Hill. There will be a dance and dinner afterwards at St. Martin Church\, Lecompte.  There will be much traditional/indigenous food\, music and dancing throughout the night.  There will not be a procession this year.\n\nOur Lady of Guadalupe is Mexico’s patron saint. This feast day is important and celebrated in Latino/Hispanic communities across the country. Many participants dress in traditional garments and the celebrations typically include large fiestas and dancing.
URL:https://www.diocesealex.org/old/event/feast-of-our-lady-of-guadalupe/2022-12-12/
LOCATION:LA\, United States
CATEGORIES:General,Liturgical
END:VEVENT
BEGIN:VEVENT
DTSTART;VALUE=DATE:20221208
DTEND;VALUE=DATE:20221209
DTSTAMP:20260425T190322
CREATED:20180823T143858Z
LAST-MODIFIED:20180823T143858Z
UID:10000227-1670457600-1670543999@www.diocesealex.org
SUMMARY:Solemnity of the Immaculate Conception of the Blessed Virgin Mary
DESCRIPTION:Patronal Feast day of the United States of America\, a holy day of obligation.
URL:https://www.diocesealex.org/old/event/solemnity-of-the-immaculate-conception-of-the-blessed-virgin-mary/2022-12-08/
LOCATION:LA
CATEGORIES:Campus Ministry,General,Liturgical,Schools
END:VEVENT
BEGIN:VEVENT
DTSTART;TZID=America/Chicago:20221129T180000
DTEND;TZID=America/Chicago:20221129T200000
DTSTAMP:20260425T190322
CREATED:20221013T180738Z
LAST-MODIFIED:20221013T180738Z
UID:10002253-1669744800-1669752000@www.diocesealex.org
SUMMARY:VIRTUS Awareness Training\, Marksville
DESCRIPTION:6:00 p.m. — St. Joseph Church (church hall)\, MARKSVILLE \nTo pre-register\, go to virtus.org\, and click on First Time Registrant (on left side of screen) to begin the registration process. For more information\, call 318-445-6424 ext. 213.
URL:https://www.diocesealex.org/old/event/virtus-awareness-training-marksville-9/
LOCATION:St. Joseph Church\, 141 S. Washington St.\, Marksville\, 71351
CATEGORIES:General
GEO:31.1250622;-92.0668795
X-APPLE-STRUCTURED-LOCATION;VALUE=URI;X-ADDRESS=St. Joseph Church 141 S. Washington St. Marksville 71351;X-APPLE-RADIUS=500;X-TITLE=141 S. Washington St.:geo:-92.0668795,31.1250622
END:VEVENT
BEGIN:VEVENT
DTSTART;VALUE=DATE:20221124
DTEND;VALUE=DATE:20221125
DTSTAMP:20260425T190322
CREATED:20180823T143410Z
LAST-MODIFIED:20210607T153406Z
UID:10000290-1669248000-1669334399@www.diocesealex.org
SUMMARY:Thanksgiving Day
DESCRIPTION:Rejoice always. Pray without ceasing. In all circumstances give thanks\, for this is the will of God for you in Christ Jesus. ~ 1 Thessalionians 5:16-18
URL:https://www.diocesealex.org/old/event/thanksgiving-day-2022-11-22/2022-11-24/
LOCATION:LA\, United States
CATEGORIES:Campus Ministry,General,Liturgical,Schools
GEO:30.9842977;-91.9623327
END:VEVENT
BEGIN:VEVENT
DTSTART;TZID=America/Chicago:20221115T180000
DTEND;TZID=America/Chicago:20221115T200000
DTSTAMP:20260425T190322
CREATED:20220929T182340Z
LAST-MODIFIED:20220929T182340Z
UID:10002224-1668535200-1668542400@www.diocesealex.org
SUMMARY:VIRTUS Awareness Training\, Alexandria
DESCRIPTION:6:00 p.m. — St. Joseph Catholic Center\, 4400 Coliseum Blvd.\, ALEXANDRIA. \nTo pre-register\, go to virtus.org\, and click on First Time Registrant (on left side of screen) to begin the registration process. For more information\, call 318-445-6424 ext. 213.
URL:https://www.diocesealex.org/old/event/virtus-awareness-training-alexandria-44/
LOCATION:St. Joseph Catholic Center\, 4400 Coliseum Blvd.\, Alexandria\, LA\, 71303\, United States
CATEGORIES:General
END:VEVENT
BEGIN:VEVENT
DTSTART;VALUE=DATE:20221102
DTEND;VALUE=DATE:20221103
DTSTAMP:20260425T190322
CREATED:20180823T143152Z
LAST-MODIFIED:20180823T143152Z
UID:10000282-1667347200-1667433599@www.diocesealex.org
SUMMARY:All Souls Day
DESCRIPTION:Commemoration of All the Faithful Departed.
URL:https://www.diocesealex.org/old/event/all-souls-day/2022-11-02/
LOCATION:LA
CATEGORIES:Campus Ministry,General,Liturgical,Schools
END:VEVENT
BEGIN:VEVENT
DTSTART;VALUE=DATE:20221101
DTEND;VALUE=DATE:20221102
DTSTAMP:20260425T190322
CREATED:20180823T142745Z
LAST-MODIFIED:20180823T143038Z
UID:10000256-1667260800-1667347199@www.diocesealex.org
SUMMARY:All Saints Day
DESCRIPTION:Solemnity  of All Saints\, a holy day of obligation.
URL:https://www.diocesealex.org/old/event/all-saints-day/2022-11-01/
LOCATION:LA
CATEGORIES:Campus Ministry,General,Liturgical,Schools
END:VEVENT
BEGIN:VEVENT
DTSTART;TZID=America/Chicago:20221025T180000
DTEND;TZID=America/Chicago:20221025T200000
DTSTAMP:20260425T190322
CREATED:20220912T213314Z
LAST-MODIFIED:20220912T213326Z
UID:10002208-1666720800-1666728000@www.diocesealex.org
SUMMARY:VIRTUS Awareness Training\, Moreauville
DESCRIPTION:6:00 p.m. — Sacred Heart School\, MOREAUVILLE \nTo pre-register\, go to virtus.org\, and click on First Time Registrant (on left side of screen) to begin the registration process. For more information\, call 318-445-6424 ext. 213.
URL:https://www.diocesealex.org/old/event/virtus-awareness-training-moreauville-5/
LOCATION:Sacred Heart School\, 9968 Bayou des Glaises\, Moreauville\, LA\, 71355\, United States
CATEGORIES:General
GEO:31.0368056;-91.9769818
X-APPLE-STRUCTURED-LOCATION;VALUE=URI;X-ADDRESS=Sacred Heart School 9968 Bayou des Glaises Moreauville LA 71355 United States;X-APPLE-RADIUS=500;X-TITLE=9968 Bayou des Glaises:geo:-91.9769818,31.0368056
END:VEVENT
END:VCALENDAR