BEGIN:VCALENDAR
VERSION:2.0
PRODID:-//Diocese of Alexandria - ECPv6.5.1.5//NONSGML v1.0//EN
CALSCALE:GREGORIAN
METHOD:PUBLISH
X-WR-CALNAME:Diocese of Alexandria
X-ORIGINAL-URL:https://www.diocesealex.org/old
X-WR-CALDESC:Events for Diocese of Alexandria
REFRESH-INTERVAL;VALUE=DURATION:PT1H
X-Robots-Tag:noindex
X-PUBLISHED-TTL:PT1H
BEGIN:VTIMEZONE
TZID:America/Chicago
BEGIN:DAYLIGHT
TZOFFSETFROM:-0600
TZOFFSETTO:-0500
TZNAME:CDT
DTSTART:20230312T080000
END:DAYLIGHT
BEGIN:STANDARD
TZOFFSETFROM:-0500
TZOFFSETTO:-0600
TZNAME:CST
DTSTART:20231105T070000
END:STANDARD
END:VTIMEZONE
BEGIN:VEVENT
DTSTART;TZID=America/Chicago:20231204T180000
DTEND;TZID=America/Chicago:20231204T200000
DTSTAMP:20260425T173250
CREATED:20231128T163333Z
LAST-MODIFIED:20231128T164154Z
UID:10002656-1701712800-1701720000@www.diocesealex.org
SUMMARY:VIRTUS Awareness Training
DESCRIPTION:6:00 p.m. – St. Joseph Church\, Rectory\, ST. JOSEPH\, LA \nTo pre-register\, go to virtus.org\, and click on First Time Registrant (on left side of screen) to begin the registration process. For more information\, call 318-445-6424 ext. 213. \nNOTE: Minors are not allowed to attend because of the adult content of the videos and discussions.
URL:https://www.diocesealex.org/old/event/18780/
LOCATION:St. Joseph Church\, St. Joseph\, 919 Plank Road\, St. Joseph\, LA\, 71366\, United States
CATEGORIES:General
END:VEVENT
BEGIN:VEVENT
DTSTART;TZID=America/Chicago:20231128T180000
DTEND;TZID=America/Chicago:20231128T200000
DTSTAMP:20260425T173250
CREATED:20231012T192618Z
LAST-MODIFIED:20231012T192618Z
UID:10002625-1701194400-1701201600@www.diocesealex.org
SUMMARY:VIRTUS Awareness Training
DESCRIPTION:6:00 p.m. – Minor Basilica of the Immaculate Conception\, NATCHITOCHES \nTo pre-register\, go to virtus.org\, and click on First Time Registrant (on left side of screen) to begin the registration process. For more information\, call 318-445-6424 ext. 213. \nNOTE: Minors are not allowed to attend because of the adult content of the videos and discussions.
URL:https://www.diocesealex.org/old/event/virtus-awareness-training-31/
LOCATION:LA
CATEGORIES:General
END:VEVENT
BEGIN:VEVENT
DTSTART;VALUE=DATE:20231123
DTEND;VALUE=DATE:20231124
DTSTAMP:20260425T173250
CREATED:20230628T145831Z
LAST-MODIFIED:20230628T145850Z
UID:10000291-1700697600-1700783999@www.diocesealex.org
SUMMARY:Thanksgiving Day
DESCRIPTION:Rejoice always. Pray without ceasing. In all circumstances give thanks\, for this is the will of God for you in Christ Jesus. ~ 1 Thessalionians 5:16-18
URL:https://www.diocesealex.org/old/event/thanksgiving-day/
LOCATION:LA\, United States
CATEGORIES:Campus Ministry,General,Liturgical,Schools
GEO:30.9842977;-91.9623327
END:VEVENT
BEGIN:VEVENT
DTSTART;TZID=America/Chicago:20231116T180000
DTEND;TZID=America/Chicago:20231116T200000
DTSTAMP:20260425T173250
CREATED:20231025T193703Z
LAST-MODIFIED:20231025T193730Z
UID:10002628-1700157600-1700164800@www.diocesealex.org
SUMMARY:VIRTUS Awareness Training
DESCRIPTION:6:00 p.m. – St. Joseph Church (church hall)\, MARKSVILLE \nTo pre-register\, go to virtus.org\, and click on First Time Registrant (on left side of screen) to begin the registration process. For more information\, call 318-445-6424 ext. 213. \nNOTE: Minors are not allowed to attend because of the adult content of the videos and discussions.
URL:https://www.diocesealex.org/old/event/18613/
LOCATION:St. Joseph Church\, 141 S. Washington St.\, Marksville\, 71351
CATEGORIES:General
GEO:31.1250622;-92.0668795
X-APPLE-STRUCTURED-LOCATION;VALUE=URI;X-ADDRESS=St. Joseph Church 141 S. Washington St. Marksville 71351;X-APPLE-RADIUS=500;X-TITLE=141 S. Washington St.:geo:-92.0668795,31.1250622
END:VEVENT
BEGIN:VEVENT
DTSTART;TZID=America/Chicago:20231114T180000
DTEND;TZID=America/Chicago:20231114T200000
DTSTAMP:20260425T173250
CREATED:20231012T192834Z
LAST-MODIFIED:20231012T192834Z
UID:10002626-1699984800-1699992000@www.diocesealex.org
SUMMARY:VIRTUS Awareness Training
DESCRIPTION:6:00 p.m. – St. Joseph Catholic Center\, 4400 Coliseum Blvd.\, ALEXANDRIA \nTo pre-register\, go to virtus.org\, and click on First Time Registrant (on left side of screen) to begin the registration process. For more information\, call 318-445-6424 ext. 213. \nNOTE: Minors are not allowed to attend because of the adult content of the videos and discussions.
URL:https://www.diocesealex.org/old/event/virtus-awareness-training-32/
LOCATION:LA
CATEGORIES:General
END:VEVENT
BEGIN:VEVENT
DTSTART;VALUE=DATE:20231102
DTEND;VALUE=DATE:20231103
DTSTAMP:20260425T173250
CREATED:20180823T143152Z
LAST-MODIFIED:20180823T143152Z
UID:10000283-1698883200-1698969599@www.diocesealex.org
SUMMARY:All Souls Day
DESCRIPTION:Commemoration of All the Faithful Departed.
URL:https://www.diocesealex.org/old/event/all-souls-day/2023-11-02/
LOCATION:LA
CATEGORIES:Campus Ministry,General,Liturgical,Schools
END:VEVENT
BEGIN:VEVENT
DTSTART;VALUE=DATE:20231101
DTEND;VALUE=DATE:20231102
DTSTAMP:20260425T173250
CREATED:20180823T142745Z
LAST-MODIFIED:20180823T143038Z
UID:10000257-1698796800-1698883199@www.diocesealex.org
SUMMARY:All Saints Day
DESCRIPTION:Solemnity  of All Saints\, a holy day of obligation.
URL:https://www.diocesealex.org/old/event/all-saints-day/2023-11-01/
LOCATION:LA
CATEGORIES:Campus Ministry,General,Liturgical,Schools
END:VEVENT
BEGIN:VEVENT
DTSTART;TZID=America/Chicago:20231019T180000
DTEND;TZID=America/Chicago:20231019T200000
DTSTAMP:20260425T173250
CREATED:20230809T154247Z
LAST-MODIFIED:20230809T154247Z
UID:10002506-1697738400-1697745600@www.diocesealex.org
SUMMARY:VIRTUS Awareness Training
DESCRIPTION:6:00 p.m. – St. Paul the Apostle Church\, MANSURA \nTo pre-register\, go to virtus.org\, and click on First Time Registrant (on left side of screen) to begin the registration process. For more information\, call 318-445-6424 ext. 213. \nNOTE: Minors are not allowed to attend because of the adult content of the videos and discussions.
URL:https://www.diocesealex.org/old/event/virtus-awareness-training-26/
LOCATION:St. Paul the Apostle Church\, 1879 Leglise St.\, Mansura\, LA\, 71350\, United States
CATEGORIES:General
END:VEVENT
BEGIN:VEVENT
DTSTART;TZID=America/Chicago:20231012T180000
DTEND;TZID=America/Chicago:20231012T200000
DTSTAMP:20260425T173250
CREATED:20230816T140915Z
LAST-MODIFIED:20230816T140915Z
UID:10002539-1697133600-1697140800@www.diocesealex.org
SUMMARY:VIRTUS Awareness Training
DESCRIPTION:6:00 p.m. – St. Joseph Catholic Center\, ALEXANDRIA \nTo pre-register\, go to virtus.org\, and click on First Time Registrant (on left side of screen) to begin the registration process. For more information\, call 318-445-6424 ext. 213. \nNOTE: Minors are not allowed to attend because of the adult content of the videos and discussions.
URL:https://www.diocesealex.org/old/event/virtus-awareness-training-27/
LOCATION:St. Joseph Catholic Center\, 4400 Coliseum Blvd.\, Alexandria\, LA\, 71303\, United States
CATEGORIES:General
END:VEVENT
BEGIN:VEVENT
DTSTART;TZID=America/Chicago:20231008T140000
DTEND;TZID=America/Chicago:20231008T160000
DTSTAMP:20260425T173250
CREATED:20230911T135917Z
LAST-MODIFIED:20230911T135917Z
UID:10002580-1696773600-1696780800@www.diocesealex.org
SUMMARY:VIRTUS Awareness Training
DESCRIPTION:2:00 p.m. – St. Mary’s Assumption Church (in the old church building)\, COTTONPORT \nTo pre-register\, go to virtus.org\, and click on First Time Registrant (on left side of screen) to begin the registration process. For more information\, call 318-445-6424 ext. 213. \nNOTE: Minors are not allowed to attend because of the adult content of the videos and discussions.
URL:https://www.diocesealex.org/old/event/virtus-awareness-training-29/
LOCATION:St. Mary’s Assumption Church\, 820 Front. St.\, Cottonport\, LA\, 71327\, United States
CATEGORIES:General
END:VEVENT
BEGIN:VEVENT
DTSTART;TZID=America/Chicago:20231007T100000
DTEND;TZID=America/Chicago:20231007T140000
DTSTAMP:20260425T173250
CREATED:20231003T193510Z
LAST-MODIFIED:20231003T193510Z
UID:10002582-1696672800-1696687200@www.diocesealex.org
SUMMARY:OLPS Fall Festival
DESCRIPTION:We are very excited to host the Fall Festival next Saturday\, October 7\, 2023\, on the school campus. The gates will open at 10:00 a.m. and will close at 2:00 p.m. Come for fun\, food\, games\, and fellowship. We will have student art projects available for purchase\, class theme baskets\, a talent show and entertainment\, a spirit shop\, a sweet shop\, and much more.   We will have delicious food cooked by our very own Knights of Columbus.
URL:https://www.diocesealex.org/old/event/olps-fall-festival/
LOCATION:Our Lady of Prompt Succor School\, 420 21st Street\, Alexandria\, LA\, 71301\, United States
CATEGORIES:General
GEO:31.3024924;-92.4629147
X-APPLE-STRUCTURED-LOCATION;VALUE=URI;X-ADDRESS=Our Lady of Prompt Succor School 420 21st Street Alexandria LA 71301 United States;X-APPLE-RADIUS=500;X-TITLE=420 21st Street:geo:-92.4629147,31.3024924
END:VEVENT
BEGIN:VEVENT
DTSTART;TZID=America/Chicago:20231006T153000
DTEND;TZID=America/Chicago:20231006T173000
DTSTAMP:20260425T173250
CREATED:20231003T183149Z
LAST-MODIFIED:20231003T193339Z
UID:10002581-1696606200-1696613400@www.diocesealex.org
SUMMARY:VIRTUS Awareness Training
DESCRIPTION:3:30 p.m. – Minor Basilica of the Immaculate Conception\, NATCHITOCHES \nTo pre-register\, go to virtus.org\, and click on First Time Registrant (on left side of screen) to begin the registration process. For more information\, call 318-445-6424 ext. 213. \nNOTE: Minors are not allowed to attend because of the adult content of the videos and discussions.
URL:https://www.diocesealex.org/old/event/virtus-awareness-training-30/
LOCATION:Minor Basilica of the Immaculate Conception\, 145 Church Street\, Natchitoches\, LA\, 71457\, United States
CATEGORIES:General
END:VEVENT
BEGIN:VEVENT
DTSTART;TZID=America/Chicago:20230926T180000
DTEND;TZID=America/Chicago:20230926T200000
DTSTAMP:20260425T173250
CREATED:20230817T182631Z
LAST-MODIFIED:20230919T205943Z
UID:10002540-1695751200-1695758400@www.diocesealex.org
SUMMARY:CANCELLED VIRTUS Awareness Training
DESCRIPTION:CANCELLED – Minor Basilica of the Immaculate Conception\, NATCHITOCHES
URL:https://www.diocesealex.org/old/event/virtus-awareness-training-28/
LOCATION:Minor Basilica of the Immaculate Conception\, 145 Church Street\, Natchitoches\, LA\, 71457\, United States
CATEGORIES:General
END:VEVENT
BEGIN:VEVENT
DTSTART;TZID=America/Chicago:20230914T180000
DTEND;TZID=America/Chicago:20230914T200000
DTSTAMP:20260425T173250
CREATED:20230724T150747Z
LAST-MODIFIED:20230724T150747Z
UID:10002505-1694714400-1694721600@www.diocesealex.org
SUMMARY:VIRTUS Awareness Training
DESCRIPTION:6:00 p.m. – St. Alphonsus Church\, HESSMER \nTo pre-register\, go to virtus.org\, and click on First Time Registrant (on left side of screen) to begin the registration process. For more information\, call 318-445-6424 ext. 213. \nNOTE: Minors are not allowed to attend because of the adult content of the videos and discussions.
URL:https://www.diocesealex.org/old/event/virtus-awareness-training-25/
LOCATION:St. Alphonsus Church\, 3645 Main Street\, Hessmer\, LA\, 71341\, United States
CATEGORIES:General
END:VEVENT
BEGIN:VEVENT
DTSTART;TZID=America/Chicago:20230912T180000
DTEND;TZID=America/Chicago:20230912T200000
DTSTAMP:20260425T173250
CREATED:20230724T150504Z
LAST-MODIFIED:20230724T150504Z
UID:10002504-1694541600-1694548800@www.diocesealex.org
SUMMARY:VIRTUS Awareness Training
DESCRIPTION:6:00 p.m. – St. Joseph Catholic Center\, ALEXANDRIA \nTo pre-register\, go to virtus.org\, and click on First Time Registrant (on left side of screen) to begin the registration process. For more information\, call 318-445-6424 ext. 213. \nNOTE: Minors are not allowed to attend because of the adult content of the videos and discussions.
URL:https://www.diocesealex.org/old/event/virtus-awareness-training-24/
LOCATION:St. Joseph Catholic Center\, 4400 Coliseum Blvd.\, Alexandria\, LA\, 71303\, United States
CATEGORIES:General
END:VEVENT
BEGIN:VEVENT
DTSTART;VALUE=DATE:20230818
DTEND;VALUE=DATE:20230821
DTSTAMP:20260425T173250
CREATED:20230711T190612Z
LAST-MODIFIED:20230711T190612Z
UID:10002503-1692316800-1692575999@www.diocesealex.org
SUMMARY:Married Couples Retreat
DESCRIPTION:Retreat Director Dr. Mario Sacasa\, a licensed marriage and family therapist in practice for over 15 years\, will lead couples in presentations and time for reflection during the weekend.  Dr. Sacasa brings years of combined ministry to married couples and offers insightful\, practical and humorous ways that will encourage and bless your marriage. Retreat location: Maryhill Renewal Center. To register\, visit: https://www.diocesealex.org/old/our-diocese/religious-education-faith-formation/married-couples-retreat/ \nAnd for more information\, contact Dcn Jason Lavergne @ dcnjlavergne@diocesealex.org \nSponsored by the Diocese of Alexandria.
URL:https://www.diocesealex.org/old/event/married-couples-retreat/
LOCATION:Maryhill\, LA\, United States
CATEGORIES:General
END:VEVENT
BEGIN:VEVENT
DTSTART;TZID=America/Chicago:20230815T180000
DTEND;TZID=America/Chicago:20230815T200000
DTSTAMP:20260425T173250
CREATED:20230711T185513Z
LAST-MODIFIED:20230711T185513Z
UID:10002499-1692122400-1692129600@www.diocesealex.org
SUMMARY:VIRTUS Awareness Training
DESCRIPTION:6:00 p.m. – St. Joseph Catholic Center\, 4400 Coliseum Blvd.\, Alexandria \nTo pre-register\, go to virtus.org\, and click on First Time Registrant (on left side of screen) to begin the registration process. For more information\, call 318-445-6424 ext. 213. \nNOTE: Minors are not allowed to attend because of the adult content of the videos and discussions.
URL:https://www.diocesealex.org/old/event/virtus-awareness-training-23/
LOCATION:St. Joseph Catholic Center\, 4400 Coliseum Blvd.\, Alexandria\, LA\, 71303\, United States
CATEGORIES:General
END:VEVENT
BEGIN:VEVENT
DTSTART;VALUE=DATE:20230815
DTEND;VALUE=DATE:20230816
DTSTAMP:20260425T173250
CREATED:20180607T230824Z
LAST-MODIFIED:20180823T162241Z
UID:10000104-1692057600-1692143999@www.diocesealex.org
SUMMARY:Solemnity of the Assumption of the Blessed Virgin Mary
DESCRIPTION:Solemnity of the Assumption of the Blessed Virgin Mary\, a Holy Day of obligation.
URL:https://www.diocesealex.org/old/event/solemnity-and-holy-day-the-assumption-of-the-blessed-virgin-mary/2023-08-15/
LOCATION:LA
CATEGORIES:Campus Ministry,General,Liturgical,Schools
END:VEVENT
BEGIN:VEVENT
DTSTART;TZID=America/Chicago:20230808T180000
DTEND;TZID=America/Chicago:20230808T200000
DTSTAMP:20260425T173250
CREATED:20230627T205433Z
LAST-MODIFIED:20230627T205533Z
UID:10002476-1691517600-1691524800@www.diocesealex.org
SUMMARY:VIRTUS Awareness Training\, Bunkie
DESCRIPTION:6:00 p.m. – St. Anthony of Padua School (Library)\, BUNKIE \nTo pre-register\, go to virtus.org\, and click on First Time Registrant (on left side of screen) to begin the registration process. For more information\, call 318-445-6424 ext. 213. \nNOTE: Minors are not allowed to attend because of the adult content of the videos and discussions.
URL:https://www.diocesealex.org/old/event/virtus-awareness-training-bunkie-6/
LOCATION:St. Anthony of Padua School\, 116 S. Knoll Ave.\, Bunkie\, LA\, 71322\, United States
CATEGORIES:General
GEO:30.9529066;-92.1901187
X-APPLE-STRUCTURED-LOCATION;VALUE=URI;X-ADDRESS=St. Anthony of Padua School 116 S. Knoll Ave. Bunkie LA 71322 United States;X-APPLE-RADIUS=500;X-TITLE=116 S. Knoll Ave.:geo:-92.1901187,30.9529066
END:VEVENT
BEGIN:VEVENT
DTSTART;TZID=America/Chicago:20230808T180000
DTEND;TZID=America/Chicago:20230808T200000
DTSTAMP:20260425T173250
CREATED:20230627T203901Z
LAST-MODIFIED:20230627T205615Z
UID:10002475-1691517600-1691524800@www.diocesealex.org
SUMMARY:VIRTUS Awareness Training\, Natchitoches
DESCRIPTION:6:00 p.m. – Minor Basilica of the Immaculate Conception\, NATCHITOCHES \nTo pre-register\, go to virtus.org\, and click on First Time Registrant (on left side of screen) to begin the registration process. For more information\, call 318-445-6424 ext. 213. \nNOTE: Minors are not allowed to attend because of the adult content of the videos and discussions.
URL:https://www.diocesealex.org/old/event/virtus-awareness-training-22/
LOCATION:Minor Basilica of the Immaculate Conception\, 145 Church Street\, Natchitoches\, LA\, 71457\, United States
CATEGORIES:General
END:VEVENT
BEGIN:VEVENT
DTSTART;TZID=America/Chicago:20230802T130000
DTEND;TZID=America/Chicago:20230802T150000
DTSTAMP:20260425T173250
CREATED:20230615T201547Z
LAST-MODIFIED:20230724T150413Z
UID:10002474-1690981200-1690988400@www.diocesealex.org
SUMMARY:VIRTUS Awareness Training
DESCRIPTION:1:00 p.m. – St. Joseph Catholic Center\, ALEXANDRIA \nTo pre-register\, go to virtus.org\, and click on First Time Registrant (on left side of screen) to begin the registration process. For more information\, call 318-445-6424 ext. 213. \nNOTE: Minors are not allowed to attend because of the adult content of the videos and discussions.
URL:https://www.diocesealex.org/old/event/virtus-awareness-training-21/
LOCATION:St. Joseph Catholic Center\, 4400 Coliseum Blvd.\, Alexandria\, LA\, 71303\, United States
CATEGORIES:General
END:VEVENT
BEGIN:VEVENT
DTSTART;TZID=America/Chicago:20230727T170000
DTEND;TZID=America/Chicago:20230727T180000
DTSTAMP:20260425T173250
CREATED:20230711T190312Z
LAST-MODIFIED:20230711T190312Z
UID:10002501-1690477200-1690480800@www.diocesealex.org
SUMMARY:Supper with the Seminarians
DESCRIPTION:St. Rita Church\, Holy Family Center\, Alexandria. \nTo reserve your seat contact Sandi Tarver at (318) 445-6424\, ext. 209 or email starver@diocesealex.org
URL:https://www.diocesealex.org/old/event/supper-with-the-seminarians-3/
LOCATION:St. Rita Church\, 4401 Bayou Rapides Rd.\, Alexandria\, LA\, 71303\, United States
CATEGORIES:General
GEO:31.298642;-92.4925177
X-APPLE-STRUCTURED-LOCATION;VALUE=URI;X-ADDRESS=St. Rita Church 4401 Bayou Rapides Rd. Alexandria LA 71303 United States;X-APPLE-RADIUS=500;X-TITLE=4401 Bayou Rapides Rd.:geo:-92.4925177,31.298642
END:VEVENT
BEGIN:VEVENT
DTSTART;TZID=America/Chicago:20230718T170000
DTEND;TZID=America/Chicago:20230718T190000
DTSTAMP:20260425T173250
CREATED:20230711T185752Z
LAST-MODIFIED:20230711T190146Z
UID:10002500-1689699600-1689706800@www.diocesealex.org
SUMMARY:Supper with the Seminarians
DESCRIPTION:Nativity of the Blessed Virgin Mary Church\, Campti \nTo reserve your seat contact Sandi Tarver at (318) 445-6424\, ext. 209 or email starver@diocesealex.org
URL:https://www.diocesealex.org/old/event/supper-with-the-seminarians-2/
LOCATION:Nativity of the Blessed Virgin Mary\, 119 Tally Street\, Campti\, LA\, 71411\, United States
CATEGORIES:General
GEO:31.8929394;-93.1227145
X-APPLE-STRUCTURED-LOCATION;VALUE=URI;X-ADDRESS=Nativity of the Blessed Virgin Mary 119 Tally Street Campti LA 71411 United States;X-APPLE-RADIUS=500;X-TITLE=119 Tally Street:geo:-93.1227145,31.8929394
END:VEVENT
BEGIN:VEVENT
DTSTART;VALUE=DATE:20230714
DTEND;VALUE=DATE:20230717
DTSTAMP:20260425T173250
CREATED:20230711T190445Z
LAST-MODIFIED:20230711T190445Z
UID:10002502-1689292800-1689551999@www.diocesealex.org
SUMMARY:Women's Silent Retreat
DESCRIPTION:Retreat Director\, Claire Gallagher\, will lead a weekend silent retreat where she will invite women to sit at the feet of Christ.  The retreat will explore the spirituality of the feminine genius. Claire will draw on scripture\, the wisdom of St. Therese of Lisieux and her own life experiences to help women grow in their spirituality and intimacy with Christ.  Retreat location: Maryhill Renewal Center. To register\, visit: https://www.diocesealex.org/old/our-diocese/religious-education-faith-formation/womens-silent-retreat/ \nAnd for more information\, contact Dcn Jason Lavergne @ dcnjlavergne@diocesealex.org \nSponsored by the Diocese of Alexandria.
URL:https://www.diocesealex.org/old/event/womens-silent-retreat/
LOCATION:Maryhill\, LA\, United States
CATEGORIES:General
END:VEVENT
BEGIN:VEVENT
DTSTART;TZID=America/Chicago:20230711T180000
DTEND;TZID=America/Chicago:20230711T200000
DTSTAMP:20260425T173250
CREATED:20230606T210833Z
LAST-MODIFIED:20230606T210903Z
UID:10002473-1689098400-1689105600@www.diocesealex.org
SUMMARY:VIRTUS Awareness Training
DESCRIPTION:6:00 p.m. – St. Joseph Catholic Center\, ALEXANDRIA \nTo pre-register\, go to virtus.org\, and click on First Time Registrant (on left side of screen) to begin the registration process. For more information\, call 318-445-6424 ext. 213. \nNOTE: Minors are not allowed to attend because of the adult content of the videos and discussions.
URL:https://www.diocesealex.org/old/event/virtus-awareness-training-20/
LOCATION:St. Joseph Catholic Center\, 4400 Coliseum Blvd.\, Alexandria\, LA\, 71303\, United States
CATEGORIES:General
END:VEVENT
BEGIN:VEVENT
DTSTART;VALUE=DATE:20230704
DTEND;VALUE=DATE:20230705
DTSTAMP:20260425T173250
CREATED:20180604T192346Z
LAST-MODIFIED:20180823T162044Z
UID:10000048-1688428800-1688515199@www.diocesealex.org
SUMMARY:Independence Day
DESCRIPTION:
URL:https://www.diocesealex.org/old/event/independence-day/2023-07-04/
LOCATION:LA
CATEGORIES:Campus Ministry,General,Liturgical,Schools
END:VEVENT
BEGIN:VEVENT
DTSTART;TZID=America/Chicago:20230629T180000
DTEND;TZID=America/Chicago:20230629T200000
DTSTAMP:20260425T173250
CREATED:20230601T212333Z
LAST-MODIFIED:20230601T212333Z
UID:10002472-1688061600-1688068800@www.diocesealex.org
SUMMARY:VIRTUS Awareness Training
DESCRIPTION:6:00 p.m. – Holy Ghost Church\, MARKSVILLE \nTo pre-register\, go to virtus.org\, and click on First Time Registrant (on left side of screen) to begin the registration process. For more information\, call 318-445-6424 ext. 213. \nNOTE: Minors are not allowed to attend because of the adult content of the videos and discussions.
URL:https://www.diocesealex.org/old/event/virtus-awareness-training-19/
LOCATION:Holy Ghost Church\, 121 S. Preston St.\, Marksville\, LA\, 71351\, United States
CATEGORIES:General
END:VEVENT
BEGIN:VEVENT
DTSTART;TZID=America/Chicago:20230627T180000
DTEND;TZID=America/Chicago:20230627T200000
DTSTAMP:20260425T173251
CREATED:20230515T154024Z
LAST-MODIFIED:20230626T172346Z
UID:10002471-1687888800-1687896000@www.diocesealex.org
SUMMARY:CANCELLED VIRTUS Awareness Training
DESCRIPTION:CANCELLED due to not enough registered to attend.
URL:https://www.diocesealex.org/old/event/virtus-awareness-training-18/
LOCATION:Minor Basilica of the Immaculate Conception\, 145 Church Street\, Natchitoches\, LA\, 71457\, United States
CATEGORIES:General
END:VEVENT
BEGIN:VEVENT
DTSTART;TZID=America/Chicago:20230610T100000
DTEND;TZID=America/Chicago:20230610T120000
DTSTAMP:20260425T173251
CREATED:20230322T142814Z
LAST-MODIFIED:20230322T142814Z
UID:10002467-1686391200-1686398400@www.diocesealex.org
SUMMARY:Priestly Ordination
DESCRIPTION:Deacon Josh Burch (Minor Basilica of the Immaculate Conception\, Natchitoches) will be ordained a Priest for the Diocese of Alexandria on Saturday\, June 10 at 10:00 a.m. at St. Francis Xavier Cathedral in Alexandria. All are welcome to attend.
URL:https://www.diocesealex.org/old/event/priestly-ordination/
LOCATION:St. Francis Xavier Cathedral\, 626 4th Street\, Alexandria\, LA\, 71303\, United States
CATEGORIES:General
END:VEVENT
BEGIN:VEVENT
DTSTART;TZID=America/Chicago:20230607T180000
DTEND;TZID=America/Chicago:20230607T200000
DTSTAMP:20260425T173251
CREATED:20230427T140329Z
LAST-MODIFIED:20230427T140329Z
UID:10002470-1686160800-1686168000@www.diocesealex.org
SUMMARY:VIRTUS Awareness Training
DESCRIPTION:6:00 p.m. – St. Joseph Catholic Center\, ALEXANDRIA \nTo pre-register\, go to virtus.org\, and click on First Time Registrant (on left side of screen) to begin the registration process. For more information\, call 318-445-6424 ext. 213. \nNOTE: Minors are not allowed to attend because of the adult content of the videos and discussions.
URL:https://www.diocesealex.org/old/event/virtus-awareness-training-17/
LOCATION:St. Joseph Catholic Center\, 4400 Coliseum Blvd.\, Alexandria\, LA\, 71303\, United States
CATEGORIES:General
END:VEVENT
END:VCALENDAR