BEGIN:VCALENDAR
VERSION:2.0
PRODID:-//Diocese of Alexandria - ECPv6.15.20//NONSGML v1.0//EN
CALSCALE:GREGORIAN
METHOD:PUBLISH
X-ORIGINAL-URL:https://www.diocesealex.org
X-WR-CALDESC:Events for Diocese of Alexandria
REFRESH-INTERVAL;VALUE=DURATION:PT1H
X-Robots-Tag:noindex
X-PUBLISHED-TTL:PT1H
BEGIN:VTIMEZONE
TZID:UTC
BEGIN:STANDARD
TZOFFSETFROM:+0000
TZOFFSETTO:+0000
TZNAME:UTC
DTSTART:20240101T000000
END:STANDARD
END:VTIMEZONE
BEGIN:VEVENT
DTSTART;TZID=UTC:20250604T180000
DTEND;TZID=UTC:20250604T210000
DTSTAMP:20260424T074906
CREATED:20250507T235018Z
LAST-MODIFIED:20250507T235018Z
UID:10002086-1749060000-1749070800@www.diocesealex.org
SUMMARY:VIRTUS Awareness Training
DESCRIPTION:St. Joseph Catholic Center\, 4400 Coliseum Blvd.\, ALEXANDRIA \nTo pre-register\, go to virtus.org\, and click on First Time Registrant (on left side of screen) to begin the registration process. For more information\, call 318-445-6424 ext. 213.
URL:https://www.diocesealex.org/event/virtus-awareness-training-29/
LOCATION:St. Joseph Catholic Center\, 4400 Coliseum Blvd.\, Alexandria\, LA\, 71303\, United States
CATEGORIES:General
END:VEVENT
BEGIN:VEVENT
DTSTART;TZID=UTC:20250607T090000
DTEND;TZID=UTC:20250607T120000
DTSTAMP:20260424T074906
CREATED:20250519T224942Z
LAST-MODIFIED:20250519T224942Z
UID:10002087-1749286800-1749297600@www.diocesealex.org
SUMMARY:VIRTUS Awareness Training
DESCRIPTION:St. Michael the Archangel Church (Church Hall)\, LEESVILLE \nTo pre-register\, go to virtus.org\, and click on First Time Registrant (on left side of screen) to begin the registration process. For more information\, call 318-445-6424 ext. 213.
URL:https://www.diocesealex.org/event/virtus-awareness-training-30/
LOCATION:St. Michael the Archangel Church\, 604 South Fifth St.\, Leesville\, LA\, 71446\, United States
CATEGORIES:General
END:VEVENT
BEGIN:VEVENT
DTSTART;VALUE=DATE:20250612
DTEND;VALUE=DATE:20250616
DTSTAMP:20260424T074906
CREATED:20241002T225457Z
LAST-MODIFIED:20250310T202634Z
UID:10001896-1749686400-1750031999@www.diocesealex.org
SUMMARY:OLPS Men's ACTS Retreat
DESCRIPTION:
URL:https://www.diocesealex.org/event/olps-mens-acts-retreat/
LOCATION:Maryhill Renewal Center\, 600 Maryhill Rd.\, Pineville\, LA\, 71360\, United States
CATEGORIES:ACTS Retreats
GEO:31.3601287;-92.4255736
X-APPLE-STRUCTURED-LOCATION;VALUE=URI;X-ADDRESS=Maryhill Renewal Center 600 Maryhill Rd. Pineville LA 71360 United States;X-APPLE-RADIUS=500;X-TITLE=600 Maryhill Rd.:geo:-92.4255736,31.3601287
END:VEVENT
BEGIN:VEVENT
DTSTART;TZID=UTC:20250619T180000
DTEND;TZID=UTC:20250619T210000
DTSTAMP:20260424T074906
CREATED:20250604T000420Z
LAST-MODIFIED:20250604T000420Z
UID:10002088-1750356000-1750366800@www.diocesealex.org
SUMMARY:VIRTUS Awareness Training
DESCRIPTION:St. Joseph Catholic Center\, 4400 Coliseum Blvd.\, ALEXANDRIA \nTo pre-register\, go to virtus.org\, and click on First Time Registrant (on left side of screen) to begin the registration process. For more information\, call 318-445-6424 ext. 213.
URL:https://www.diocesealex.org/event/virtus-awareness-training-31/
LOCATION:St. Joseph Catholic Center\, 4400 Coliseum Blvd.\, Alexandria\, LA\, 71303\, United States
CATEGORIES:General
END:VEVENT
END:VCALENDAR