BEGIN:VCALENDAR
VERSION:2.0
PRODID:-//Diocese of Alexandria - ECPv6.15.20//NONSGML v1.0//EN
CALSCALE:GREGORIAN
METHOD:PUBLISH
X-ORIGINAL-URL:https://www.diocesealex.org
X-WR-CALDESC:Events for Diocese of Alexandria
REFRESH-INTERVAL;VALUE=DURATION:PT1H
X-Robots-Tag:noindex
X-PUBLISHED-TTL:PT1H
BEGIN:VTIMEZONE
TZID:UTC
BEGIN:STANDARD
TZOFFSETFROM:+0000
TZOFFSETTO:+0000
TZNAME:UTC
DTSTART:20240101T000000
END:STANDARD
END:VTIMEZONE
BEGIN:VEVENT
DTSTART;VALUE=DATE:20250501
DTEND;VALUE=DATE:20250505
DTSTAMP:20260424T062610
CREATED:20241002T225339Z
LAST-MODIFIED:20241002T225339Z
UID:10001895-1746057600-1746403199@www.diocesealex.org
SUMMARY:St. Augustine Men's ACTS Retreat
DESCRIPTION:
URL:https://www.diocesealex.org/event/st-augustine-mens-acts-retreat/
LOCATION:Maryhill Renewal Center\, 600 Maryhill Rd.\, Pineville\, LA\, 71360\, United States
CATEGORIES:ACTS Retreats
GEO:31.3601287;-92.4255736
X-APPLE-STRUCTURED-LOCATION;VALUE=URI;X-ADDRESS=Maryhill Renewal Center 600 Maryhill Rd. Pineville LA 71360 United States;X-APPLE-RADIUS=500;X-TITLE=600 Maryhill Rd.:geo:-92.4255736,31.3601287
END:VEVENT
BEGIN:VEVENT
DTSTART;TZID=UTC:20250501T070000
DTEND;TZID=UTC:20250501T073000
DTSTAMP:20260424T062610
CREATED:20250310T220935Z
LAST-MODIFIED:20250310T220935Z
UID:10002043-1746082800-1746084600@www.diocesealex.org
SUMMARY:Breakfast
DESCRIPTION:Today’s choices for breakfast include: French toast sticks\, peaches\, choice of milk\, choice of juice.
URL:https://www.diocesealex.org/event/breakfast-202/
LOCATION:LA
CATEGORIES:Schools
END:VEVENT
BEGIN:VEVENT
DTSTART;TZID=UTC:20250501T110000
DTEND;TZID=UTC:20250501T130000
DTSTAMP:20260424T062610
CREATED:20250310T234028Z
LAST-MODIFIED:20250310T234028Z
UID:10002082-1746097200-1746104400@www.diocesealex.org
SUMMARY:Lunch
DESCRIPTION:Today’s choices for lunch include: Meatloaf\, mashed potatoes\, green peas\, whole grain roll\, peaches\, choice of milk.
URL:https://www.diocesealex.org/event/lunch-206/
LOCATION:LA
CATEGORIES:Schools
END:VEVENT
BEGIN:VEVENT
DTSTART;TZID=UTC:20250502T070000
DTEND;TZID=UTC:20250502T073000
DTSTAMP:20260424T062610
CREATED:20250310T221011Z
LAST-MODIFIED:20250310T221011Z
UID:10002044-1746169200-1746171000@www.diocesealex.org
SUMMARY:Breakfast
DESCRIPTION:Today’s choices for breakfast include: Choice of cereal\, mixed fruit\, choice of milk\, choice of juice.
URL:https://www.diocesealex.org/event/breakfast-203/
LOCATION:LA
CATEGORIES:Schools
END:VEVENT
BEGIN:VEVENT
DTSTART;TZID=UTC:20250502T110000
DTEND;TZID=UTC:20250502T130000
DTSTAMP:20260424T062610
CREATED:20250310T234122Z
LAST-MODIFIED:20250310T234122Z
UID:10002083-1746183600-1746190800@www.diocesealex.org
SUMMARY:Lunch
DESCRIPTION:Today’s choices for lunch include: Chicken on bun\, french fries\, garden salad\, applesauce\, choice of milk.
URL:https://www.diocesealex.org/event/lunch-207/
LOCATION:LA
CATEGORIES:Schools
END:VEVENT
BEGIN:VEVENT
DTSTART;TZID=UTC:20250522T080000
DTEND;TZID=UTC:20250522T150000
DTSTAMP:20260424T062610
CREATED:20240528T174830Z
LAST-MODIFIED:20240528T174851Z
UID:10001758-1747900800-1747926000@www.diocesealex.org
SUMMARY:Last day of classes for all schools except for St. Mary's School\, Natchitoches
DESCRIPTION:Check with your school’s office for accurate bell times.
URL:https://www.diocesealex.org/event/last-day-of-classes-for-all-schools-except-for-st-marys-school-natchitoches/
LOCATION:LA
CATEGORIES:Schools
END:VEVENT
BEGIN:VEVENT
DTSTART;TZID=UTC:20250522T180000
DTEND;TZID=UTC:20250522T210000
DTSTAMP:20260424T062610
CREATED:20250507T234924Z
LAST-MODIFIED:20250507T234924Z
UID:10002085-1747936800-1747947600@www.diocesealex.org
SUMMARY:VIRTUS Awareness Training
DESCRIPTION:St. Joseph School\, PLAUCHEVILLE \nTo pre-register\, go to virtus.org\, and click on First Time Registrant (on left side of screen) to begin the registration process. For more information\, call 318-445-6424 ext. 213.
URL:https://www.diocesealex.org/event/virtus-awareness-training-28/
LOCATION:St. Joseph School\, 3406 Hwy 107 South\, Plaucheville\, LA\, 71303\, United States
CATEGORIES:General
GEO:30.9649855;-91.983456
X-APPLE-STRUCTURED-LOCATION;VALUE=URI;X-ADDRESS=St. Joseph School 3406 Hwy 107 South Plaucheville LA 71303 United States;X-APPLE-RADIUS=500;X-TITLE=3406 Hwy 107 South:geo:-91.983456,30.9649855
END:VEVENT
BEGIN:VEVENT
DTSTART;TZID=UTC:20250526T080000
DTEND;TZID=UTC:20250526T150000
DTSTAMP:20260424T062610
CREATED:20240528T174926Z
LAST-MODIFIED:20240528T174926Z
UID:10001759-1748246400-1748271600@www.diocesealex.org
SUMMARY:Memorial Day: no classes St. Mary's Natchitoches
DESCRIPTION:
URL:https://www.diocesealex.org/event/memorial-day-no-classes-st-marys-natchitoches/
LOCATION:LA
CATEGORIES:Schools
END:VEVENT
BEGIN:VEVENT
DTSTART;TZID=UTC:20250530T080000
DTEND;TZID=UTC:20250530T150000
DTSTAMP:20260424T062610
CREATED:20240528T175007Z
LAST-MODIFIED:20240528T175007Z
UID:10001760-1748592000-1748617200@www.diocesealex.org
SUMMARY:Last day of classes for St. Mary's Natchitoches
DESCRIPTION:
URL:https://www.diocesealex.org/event/last-day-of-classes-for-st-marys-natchitoches/
LOCATION:LA
CATEGORIES:Schools
END:VEVENT
END:VCALENDAR