BEGIN:VCALENDAR
VERSION:2.0
PRODID:-//Diocese of Alexandria - ECPv6.15.20//NONSGML v1.0//EN
CALSCALE:GREGORIAN
METHOD:PUBLISH
X-ORIGINAL-URL:https://www.diocesealex.org
X-WR-CALDESC:Events for Diocese of Alexandria
REFRESH-INTERVAL;VALUE=DURATION:PT1H
X-Robots-Tag:noindex
X-PUBLISHED-TTL:PT1H
BEGIN:VTIMEZONE
TZID:UTC
BEGIN:STANDARD
TZOFFSETFROM:+0000
TZOFFSETTO:+0000
TZNAME:UTC
DTSTART:20240101T000000
END:STANDARD
END:VTIMEZONE
BEGIN:VEVENT
DTSTART;TZID=UTC:20251002T070000
DTEND;TZID=UTC:20251002T073000
DTSTAMP:20260424T102727
CREATED:20250903T022228Z
LAST-MODIFIED:20250922T214513Z
UID:10002173-1759388400-1759390200@www.diocesealex.org
SUMMARY:Breakfast
DESCRIPTION:Today’s choices for breakfast include:  Scrambled egg\, sausage\, peaches\, diced pears\, choice of milk. \nPlease note: Breakfast is not offered at St. Mary’s Catholic School in Natchitoches.
URL:https://www.diocesealex.org/event/breakfast-230/
LOCATION:LA
CATEGORIES:Schools
END:VEVENT
BEGIN:VEVENT
DTSTART;TZID=UTC:20251002T110000
DTEND;TZID=UTC:20251002T130000
DTSTAMP:20260424T102727
CREATED:20250903T025119Z
LAST-MODIFIED:20250903T025119Z
UID:10002197-1759402800-1759410000@www.diocesealex.org
SUMMARY:Lunch
DESCRIPTION:Today’s choices for lunch include:  Spaghetti with meat sauce\, green beans\, garden salad/dressing\, garlic bread\, peaches. choice of milk.
URL:https://www.diocesealex.org/event/lunch-230/
LOCATION:LA
CATEGORIES:Schools
END:VEVENT
END:VCALENDAR