BEGIN:VCALENDAR
VERSION:2.0
PRODID:-//Diocese of Alexandria - ECPv6.15.20//NONSGML v1.0//EN
CALSCALE:GREGORIAN
METHOD:PUBLISH
X-ORIGINAL-URL:https://www.diocesealex.org
X-WR-CALDESC:Events for Diocese of Alexandria
REFRESH-INTERVAL;VALUE=DURATION:PT1H
X-Robots-Tag:noindex
X-PUBLISHED-TTL:PT1H
BEGIN:VTIMEZONE
TZID:UTC
BEGIN:STANDARD
TZOFFSETFROM:+0000
TZOFFSETTO:+0000
TZNAME:UTC
DTSTART:20240101T000000
END:STANDARD
END:VTIMEZONE
BEGIN:VEVENT
DTSTART;TZID=UTC:20251001T070000
DTEND;TZID=UTC:20251001T073000
DTSTAMP:20260424T103022
CREATED:20250903T022127Z
LAST-MODIFIED:20250922T214507Z
UID:10002172-1759302000-1759303800@www.diocesealex.org
SUMMARY:Breakfast
DESCRIPTION:Today’s choices for breakfast include:  Whole grain waffles\, syrup\, diced pears\, choice of milk\, choice of juice. \nPlease note: Breakfast is not offered at St. Mary’s Catholic School in Natchitoches.
URL:https://www.diocesealex.org/event/breakfast-229/
LOCATION:LA
CATEGORIES:Schools
END:VEVENT
BEGIN:VEVENT
DTSTART;TZID=UTC:20251001T110000
DTEND;TZID=UTC:20251001T130000
DTSTAMP:20260424T103022
CREATED:20250903T025009Z
LAST-MODIFIED:20250903T025009Z
UID:10002196-1759316400-1759323600@www.diocesealex.org
SUMMARY:Lunch
DESCRIPTION:Today’s choices for lunch include:  Pork roast\, rice\, green beans\, baked sweet potatoes\, mixed fruit\, choice of milk.
URL:https://www.diocesealex.org/event/lunch-229/
LOCATION:LA
CATEGORIES:Schools
END:VEVENT
END:VCALENDAR