BEGIN:VCALENDAR
VERSION:2.0
PRODID:-//Diocese of Alexandria - ECPv6.15.20//NONSGML v1.0//EN
CALSCALE:GREGORIAN
METHOD:PUBLISH
X-ORIGINAL-URL:https://www.diocesealex.org
X-WR-CALDESC:Events for Diocese of Alexandria
REFRESH-INTERVAL;VALUE=DURATION:PT1H
X-Robots-Tag:noindex
X-PUBLISHED-TTL:PT1H
BEGIN:VTIMEZONE
TZID:UTC
BEGIN:STANDARD
TZOFFSETFROM:+0000
TZOFFSETTO:+0000
TZNAME:UTC
DTSTART:20240101T000000
END:STANDARD
END:VTIMEZONE
BEGIN:VEVENT
DTSTART;TZID=UTC:20250930T070000
DTEND;TZID=UTC:20250930T073000
DTSTAMP:20260424T103647
CREATED:20250903T022028Z
LAST-MODIFIED:20250922T214501Z
UID:10002171-1759215600-1759217400@www.diocesealex.org
SUMMARY:Breakfast
DESCRIPTION:Today’s choices for breakfast include:   Grits\, hash browns\, peaches\, diced pears\, choice of milk. \nPlease note: Breakfast is not offered at St. Mary’s Catholic School in Natchitoches.
URL:https://www.diocesealex.org/event/breakfast-228/
LOCATION:LA
CATEGORIES:Schools
END:VEVENT
BEGIN:VEVENT
DTSTART;TZID=UTC:20250930T110000
DTEND;TZID=UTC:20250930T130000
DTSTAMP:20260424T103647
CREATED:20250903T024917Z
LAST-MODIFIED:20250903T024917Z
UID:10002195-1759230000-1759237200@www.diocesealex.org
SUMMARY:Lunch
DESCRIPTION:Today’s choices for lunch include:  Beef and cheese nachos\, Mexican corn\, garden salad/dressing\, sugar cookie\, peaches\, choice of milk.
URL:https://www.diocesealex.org/event/lunch-228/
LOCATION:LA
CATEGORIES:Schools
END:VEVENT
END:VCALENDAR