BEGIN:VCALENDAR
VERSION:2.0
PRODID:-//Diocese of Alexandria - ECPv6.15.20//NONSGML v1.0//EN
CALSCALE:GREGORIAN
METHOD:PUBLISH
X-WR-CALNAME:Diocese of Alexandria
X-ORIGINAL-URL:https://www.diocesealex.org
X-WR-CALDESC:Events for Diocese of Alexandria
REFRESH-INTERVAL;VALUE=DURATION:PT1H
X-Robots-Tag:noindex
X-PUBLISHED-TTL:PT1H
BEGIN:VTIMEZONE
TZID:UTC
BEGIN:STANDARD
TZOFFSETFROM:+0000
TZOFFSETTO:+0000
TZNAME:UTC
DTSTART:20240101T000000
END:STANDARD
END:VTIMEZONE
BEGIN:VEVENT
DTSTART;VALUE=DATE:20250927
DTEND;VALUE=DATE:20250928
DTSTAMP:20260424T103444
CREATED:20250826T234723Z
LAST-MODIFIED:20250826T234723Z
UID:10002133-1758931200-1759017599@www.diocesealex.org
SUMMARY:ACTS Retreat Leadership Training
DESCRIPTION:
URL:https://www.diocesealex.org/event/acts-retreat-leadership-training/
LOCATION:LA
CATEGORIES:ACTS Retreats
END:VEVENT
END:VCALENDAR