BEGIN:VCALENDAR
VERSION:2.0
PRODID:-//Diocese of Alexandria - ECPv6.15.20//NONSGML v1.0//EN
CALSCALE:GREGORIAN
METHOD:PUBLISH
X-WR-CALNAME:Diocese of Alexandria
X-ORIGINAL-URL:https://www.diocesealex.org
X-WR-CALDESC:Events for Diocese of Alexandria
REFRESH-INTERVAL;VALUE=DURATION:PT1H
X-Robots-Tag:noindex
X-PUBLISHED-TTL:PT1H
BEGIN:VTIMEZONE
TZID:UTC
BEGIN:STANDARD
TZOFFSETFROM:+0000
TZOFFSETTO:+0000
TZNAME:UTC
DTSTART:20240101T000000
END:STANDARD
END:VTIMEZONE
BEGIN:VEVENT
DTSTART;TZID=UTC:20250925T070000
DTEND;TZID=UTC:20250925T073000
DTSTAMP:20260424T101143
CREATED:20250903T021725Z
LAST-MODIFIED:20250922T214440Z
UID:10002168-1758783600-1758785400@www.diocesealex.org
SUMMARY:Breakfast
DESCRIPTION:Today’s choices for breakfast include:  French toast sticks\, peaches\, choice of milk\, choice of juice. \nPlease note: Breakfast is not offered at St. Mary’s Catholic School in Natchitoches.
URL:https://www.diocesealex.org/event/breakfast-225/
LOCATION:LA
CATEGORIES:Schools
END:VEVENT
BEGIN:VEVENT
DTSTART;TZID=UTC:20250925T110000
DTEND;TZID=UTC:20250925T130000
DTSTAMP:20260424T101143
CREATED:20250903T024559Z
LAST-MODIFIED:20250903T024559Z
UID:10002192-1758798000-1758805200@www.diocesealex.org
SUMMARY:Lunch
DESCRIPTION:Today’s choices for lunch include:  Hot dog\, french fries\, garden salad/dressing\, applesauce\, choice of milk.
URL:https://www.diocesealex.org/event/lunch-225/
LOCATION:LA
CATEGORIES:Schools
END:VEVENT
END:VCALENDAR