BEGIN:VCALENDAR
VERSION:2.0
PRODID:-//Diocese of Alexandria - ECPv6.15.20//NONSGML v1.0//EN
CALSCALE:GREGORIAN
METHOD:PUBLISH
X-ORIGINAL-URL:https://www.diocesealex.org
X-WR-CALDESC:Events for Diocese of Alexandria
REFRESH-INTERVAL;VALUE=DURATION:PT1H
X-Robots-Tag:noindex
X-PUBLISHED-TTL:PT1H
BEGIN:VTIMEZONE
TZID:UTC
BEGIN:STANDARD
TZOFFSETFROM:+0000
TZOFFSETTO:+0000
TZNAME:UTC
DTSTART:20240101T000000
END:STANDARD
END:VTIMEZONE
BEGIN:VEVENT
DTSTART;TZID=UTC:20250923T070000
DTEND;TZID=UTC:20250923T073000
DTSTAMP:20260424T103819
CREATED:20250903T021548Z
LAST-MODIFIED:20250922T214428Z
UID:10002166-1758610800-1758612600@www.diocesealex.org
SUMMARY:Breakfast
DESCRIPTION:Today’s choices for breakfast include:  Grits\, hash browns\, peaches\, diced pears\, choice of milk. \nPlease note: Breakfast is not offered at St. Mary’s Catholic School in Natchitoches.
URL:https://www.diocesealex.org/event/breakfast-223/
LOCATION:LA
CATEGORIES:Schools
END:VEVENT
BEGIN:VEVENT
DTSTART;TZID=UTC:20250923T110000
DTEND;TZID=UTC:20250923T130000
DTSTAMP:20260424T103819
CREATED:20250903T024414Z
LAST-MODIFIED:20250903T024414Z
UID:10002190-1758625200-1758632400@www.diocesealex.org
SUMMARY:Lunch
DESCRIPTION:Today’s choices for lunch include:  White beans and sausage\, rice\, steamed cabbage\, cornbread\, peaches\, choice of milk.
URL:https://www.diocesealex.org/event/lunch-223/
LOCATION:LA
CATEGORIES:Schools
END:VEVENT
END:VCALENDAR