BEGIN:VCALENDAR
VERSION:2.0
PRODID:-//Diocese of Alexandria - ECPv6.15.20//NONSGML v1.0//EN
CALSCALE:GREGORIAN
METHOD:PUBLISH
X-ORIGINAL-URL:https://www.diocesealex.org
X-WR-CALDESC:Events for Diocese of Alexandria
REFRESH-INTERVAL;VALUE=DURATION:PT1H
X-Robots-Tag:noindex
X-PUBLISHED-TTL:PT1H
BEGIN:VTIMEZONE
TZID:UTC
BEGIN:STANDARD
TZOFFSETFROM:+0000
TZOFFSETTO:+0000
TZNAME:UTC
DTSTART:20240101T000000
END:STANDARD
END:VTIMEZONE
BEGIN:VEVENT
DTSTART;VALUE=DATE:20250918
DTEND;VALUE=DATE:20250922
DTSTAMP:20260424T103821
CREATED:20241002T230033Z
LAST-MODIFIED:20250723T200229Z
UID:10001901-1758153600-1758499199@www.diocesealex.org
SUMMARY:Women's ACTS Retreat hosted by Our Lady of Guadalupe (Spanish)
DESCRIPTION:
URL:https://www.diocesealex.org/event/our-lady-of-guadalupe-womens-acts-retreat-spanish/
LOCATION:Maryhill Renewal Center\, 600 Maryhill Rd.\, Pineville\, LA\, 71360\, United States
CATEGORIES:ACTS Retreats
GEO:31.3601287;-92.4255736
X-APPLE-STRUCTURED-LOCATION;VALUE=URI;X-ADDRESS=Maryhill Renewal Center 600 Maryhill Rd. Pineville LA 71360 United States;X-APPLE-RADIUS=500;X-TITLE=600 Maryhill Rd.:geo:-92.4255736,31.3601287
END:VEVENT
BEGIN:VEVENT
DTSTART;TZID=UTC:20250919T070000
DTEND;TZID=UTC:20250919T073000
DTSTAMP:20260424T103821
CREATED:20250903T021331Z
LAST-MODIFIED:20250903T021331Z
UID:10002164-1758265200-1758267000@www.diocesealex.org
SUMMARY:Breakfast
DESCRIPTION:Today’s choices for breakfast include:  Choice of cereal\, peaches\, choice of milk\, choice of juice.
URL:https://www.diocesealex.org/event/breakfast-221/
LOCATION:LA
CATEGORIES:Schools
END:VEVENT
BEGIN:VEVENT
DTSTART;TZID=UTC:20250919T110000
DTEND;TZID=UTC:20250919T130000
DTSTAMP:20260424T103821
CREATED:20250903T023917Z
LAST-MODIFIED:20250903T023917Z
UID:10002188-1758279600-1758286800@www.diocesealex.org
SUMMARY:Lunch
DESCRIPTION:Today’s choices for lunch include:  Corn dog\, baked beans\, garden salad/dressing\, peaches\, choice of milk.
URL:https://www.diocesealex.org/event/lunch-221/
LOCATION:LA
CATEGORIES:Schools
END:VEVENT
END:VCALENDAR