BEGIN:VCALENDAR
VERSION:2.0
PRODID:-//Diocese of Alexandria - ECPv6.15.20//NONSGML v1.0//EN
CALSCALE:GREGORIAN
METHOD:PUBLISH
X-WR-CALNAME:Diocese of Alexandria
X-ORIGINAL-URL:https://www.diocesealex.org
X-WR-CALDESC:Events for Diocese of Alexandria
REFRESH-INTERVAL;VALUE=DURATION:PT1H
X-Robots-Tag:noindex
X-PUBLISHED-TTL:PT1H
BEGIN:VTIMEZONE
TZID:UTC
BEGIN:STANDARD
TZOFFSETFROM:+0000
TZOFFSETTO:+0000
TZNAME:UTC
DTSTART:20240101T000000
END:STANDARD
END:VTIMEZONE
BEGIN:VEVENT
DTSTART;TZID=UTC:20250915T070000
DTEND;TZID=UTC:20250915T073000
DTSTAMP:20260424T103450
CREATED:20250903T021028Z
LAST-MODIFIED:20250903T021028Z
UID:10002160-1757919600-1757921400@www.diocesealex.org
SUMMARY:Breakfast
DESCRIPTION:Today’s choices for breakfast include:  Biscuit and applesauce\, choice of milk\, choice of juice.
URL:https://www.diocesealex.org/event/breakfast-217/
LOCATION:LA
CATEGORIES:Schools
END:VEVENT
BEGIN:VEVENT
DTSTART;TZID=UTC:20250915T110000
DTEND;TZID=UTC:20250915T130000
DTSTAMP:20260424T103450
CREATED:20250903T023555Z
LAST-MODIFIED:20250903T023555Z
UID:10002184-1757934000-1757941200@www.diocesealex.org
SUMMARY:Lunch
DESCRIPTION:Today’s choices for lunch include:  Shepherd’s Pie\, green peas & carrots\, whole grain roll\, diced pears\, choice of milk.
URL:https://www.diocesealex.org/event/lunch-217/
LOCATION:LA
CATEGORIES:Schools
END:VEVENT
END:VCALENDAR