BEGIN:VCALENDAR
VERSION:2.0
PRODID:-//Diocese of Alexandria - ECPv6.15.20//NONSGML v1.0//EN
CALSCALE:GREGORIAN
METHOD:PUBLISH
X-WR-CALNAME:Diocese of Alexandria
X-ORIGINAL-URL:https://www.diocesealex.org
X-WR-CALDESC:Events for Diocese of Alexandria
REFRESH-INTERVAL;VALUE=DURATION:PT1H
X-Robots-Tag:noindex
X-PUBLISHED-TTL:PT1H
BEGIN:VTIMEZONE
TZID:UTC
BEGIN:STANDARD
TZOFFSETFROM:+0000
TZOFFSETTO:+0000
TZNAME:UTC
DTSTART:20240101T000000
END:STANDARD
END:VTIMEZONE
BEGIN:VEVENT
DTSTART;VALUE=DATE:20250911
DTEND;VALUE=DATE:20250915
DTSTAMP:20260424T102620
CREATED:20241002T230133Z
LAST-MODIFIED:20250826T183040Z
UID:10001902-1757548800-1757894399@www.diocesealex.org
SUMMARY:Women's ACTS Retreat hosted by St. Mary's Assumption
DESCRIPTION:
URL:https://www.diocesealex.org/event/st-marys-assumption-womens-acts-retreat-2/
LOCATION:Maryhill Renewal Center\, 600 Maryhill Rd.\, Pineville\, LA\, 71360\, United States
CATEGORIES:ACTS Retreats
GEO:31.3601287;-92.4255736
X-APPLE-STRUCTURED-LOCATION;VALUE=URI;X-ADDRESS=Maryhill Renewal Center 600 Maryhill Rd. Pineville LA 71360 United States;X-APPLE-RADIUS=500;X-TITLE=600 Maryhill Rd.:geo:-92.4255736,31.3601287
END:VEVENT
BEGIN:VEVENT
DTSTART;TZID=UTC:20250911T070000
DTEND;TZID=UTC:20250911T073000
DTSTAMP:20260424T102620
CREATED:20250903T020844Z
LAST-MODIFIED:20250903T020844Z
UID:10002158-1757574000-1757575800@www.diocesealex.org
SUMMARY:Breakfast
DESCRIPTION:Today’s choices for breakfast include:  Sausage pancake on a stick\, mixed fruit\, choice of milk\, choice of juice.
URL:https://www.diocesealex.org/event/breakfast-215/
LOCATION:LA
CATEGORIES:Schools
END:VEVENT
BEGIN:VEVENT
DTSTART;TZID=UTC:20250911T110000
DTEND;TZID=UTC:20250911T130000
DTSTAMP:20260424T102620
CREATED:20250903T023338Z
LAST-MODIFIED:20250903T023338Z
UID:10002182-1757588400-1757595600@www.diocesealex.org
SUMMARY:Lunch
DESCRIPTION:Today’s choices for lunch include:  Meatloaf\, mashed potatoes\, seasoned green peas\, whole grain roll\, peaches\, choice of milk.
URL:https://www.diocesealex.org/event/lunch-215/
LOCATION:LA
CATEGORIES:Schools
END:VEVENT
END:VCALENDAR