BEGIN:VCALENDAR
VERSION:2.0
PRODID:-//Diocese of Alexandria - ECPv6.15.20//NONSGML v1.0//EN
CALSCALE:GREGORIAN
METHOD:PUBLISH
X-ORIGINAL-URL:https://www.diocesealex.org
X-WR-CALDESC:Events for Diocese of Alexandria
REFRESH-INTERVAL;VALUE=DURATION:PT1H
X-Robots-Tag:noindex
X-PUBLISHED-TTL:PT1H
BEGIN:VTIMEZONE
TZID:UTC
BEGIN:STANDARD
TZOFFSETFROM:+0000
TZOFFSETTO:+0000
TZNAME:UTC
DTSTART:20240101T000000
END:STANDARD
END:VTIMEZONE
BEGIN:VEVENT
DTSTART;TZID=UTC:20250910T070000
DTEND;TZID=UTC:20250910T073000
DTSTAMP:20260424T103644
CREATED:20250903T020751Z
LAST-MODIFIED:20250903T020751Z
UID:10002157-1757487600-1757489400@www.diocesealex.org
SUMMARY:Breakfast
DESCRIPTION:Today’s choices for breakfast include:  Whole grain waffles\, syrup\, diced pears\, choice of milk\, choice of juice.
URL:https://www.diocesealex.org/event/breakfast-214/
LOCATION:LA
CATEGORIES:Schools
END:VEVENT
BEGIN:VEVENT
DTSTART;TZID=UTC:20250910T110000
DTEND;TZID=UTC:20250910T130000
DTSTAMP:20260424T103644
CREATED:20250903T023248Z
LAST-MODIFIED:20250903T023248Z
UID:10002181-1757502000-1757509200@www.diocesealex.org
SUMMARY:Lunch
DESCRIPTION:Today’s choices for lunch include:  Pepperoni pizza\, steamed corn\, garden salad/dressing\, applesauce\, choice of milk.
URL:https://www.diocesealex.org/event/lunch-214/
LOCATION:LA
CATEGORIES:Schools
END:VEVENT
END:VCALENDAR