BEGIN:VCALENDAR
VERSION:2.0
PRODID:-//Diocese of Alexandria - ECPv6.15.20//NONSGML v1.0//EN
CALSCALE:GREGORIAN
METHOD:PUBLISH
X-ORIGINAL-URL:https://www.diocesealex.org
X-WR-CALDESC:Events for Diocese of Alexandria
REFRESH-INTERVAL;VALUE=DURATION:PT1H
X-Robots-Tag:noindex
X-PUBLISHED-TTL:PT1H
BEGIN:VTIMEZONE
TZID:UTC
BEGIN:STANDARD
TZOFFSETFROM:+0000
TZOFFSETTO:+0000
TZNAME:UTC
DTSTART:20240101T000000
END:STANDARD
END:VTIMEZONE
BEGIN:VEVENT
DTSTART;TZID=UTC:20250909T070000
DTEND;TZID=UTC:20250909T073000
DTSTAMP:20260424T103744
CREATED:20250903T020657Z
LAST-MODIFIED:20250903T020657Z
UID:10002156-1757401200-1757403000@www.diocesealex.org
SUMMARY:Breakfast
DESCRIPTION:Today’s choices for breakfast include:  Grits\, hash browns\, peaches\, pears\, choice of milk.
URL:https://www.diocesealex.org/event/breakfast-213/
LOCATION:LA
CATEGORIES:Schools
END:VEVENT
BEGIN:VEVENT
DTSTART;TZID=UTC:20250909T110000
DTEND;TZID=UTC:20250909T130000
DTSTAMP:20260424T103744
CREATED:20250903T023155Z
LAST-MODIFIED:20250903T023155Z
UID:10002180-1757415600-1757422800@www.diocesealex.org
SUMMARY:Lunch
DESCRIPTION:Today’s choices for lunch include:  Red beans and sausage\, rice\, steamed mustard greens\, mixed fruit\, cornbread\, choice of milk.
URL:https://www.diocesealex.org/event/lunch-213/
LOCATION:LA
CATEGORIES:Schools
END:VEVENT
END:VCALENDAR