BEGIN:VCALENDAR
VERSION:2.0
PRODID:-//Diocese of Alexandria - ECPv6.15.20//NONSGML v1.0//EN
CALSCALE:GREGORIAN
METHOD:PUBLISH
X-WR-CALNAME:Diocese of Alexandria
X-ORIGINAL-URL:https://www.diocesealex.org
X-WR-CALDESC:Events for Diocese of Alexandria
REFRESH-INTERVAL;VALUE=DURATION:PT1H
X-Robots-Tag:noindex
X-PUBLISHED-TTL:PT1H
BEGIN:VTIMEZONE
TZID:UTC
BEGIN:STANDARD
TZOFFSETFROM:+0000
TZOFFSETTO:+0000
TZNAME:UTC
DTSTART:20240101T000000
END:STANDARD
END:VTIMEZONE
BEGIN:VEVENT
DTSTART;VALUE=DATE:20250904
DTEND;VALUE=DATE:20250908
DTSTAMP:20260424T101720
CREATED:20241002T225938Z
LAST-MODIFIED:20250723T200250Z
UID:10001900-1756944000-1757289599@www.diocesealex.org
SUMMARY:Men's ACTS Retreat hosted by St. Alphonsus Church
DESCRIPTION:
URL:https://www.diocesealex.org/event/st-alphonsus-mens-acts-retreat/
LOCATION:Maryhill Renewal Center\, 600 Maryhill Rd.\, Pineville\, LA\, 71360\, United States
CATEGORIES:ACTS Retreats
GEO:31.3601287;-92.4255736
X-APPLE-STRUCTURED-LOCATION;VALUE=URI;X-ADDRESS=Maryhill Renewal Center 600 Maryhill Rd. Pineville LA 71360 United States;X-APPLE-RADIUS=500;X-TITLE=600 Maryhill Rd.:geo:-92.4255736,31.3601287
END:VEVENT
BEGIN:VEVENT
DTSTART;TZID=UTC:20250904T070000
DTEND;TZID=UTC:20250904T073000
DTSTAMP:20260424T101720
CREATED:20250903T020419Z
LAST-MODIFIED:20250903T020419Z
UID:10002153-1756969200-1756971000@www.diocesealex.org
SUMMARY:Breakfast
DESCRIPTION:Today’s choices for breakfast include:  Scrambled egg\, sausage\, peaches\, diced pears\, choice of milk.
URL:https://www.diocesealex.org/event/breakfast-210/
LOCATION:LA
CATEGORIES:Schools
END:VEVENT
BEGIN:VEVENT
DTSTART;TZID=UTC:20250904T110000
DTEND;TZID=UTC:20250904T130000
DTSTAMP:20260424T101720
CREATED:20250903T022715Z
LAST-MODIFIED:20250903T022929Z
UID:10002177-1756983600-1756990800@www.diocesealex.org
SUMMARY:Lunch
DESCRIPTION:Today’s choices for lunch include:  Spaghetti with meat sauce\, green beans\, garden salad/dressing\, peaches\, garlic bread\, choice of milk.
URL:https://www.diocesealex.org/event/lunch-210/
LOCATION:LA
CATEGORIES:Schools
END:VEVENT
END:VCALENDAR