BEGIN:VCALENDAR
VERSION:2.0
PRODID:-//Diocese of Alexandria - ECPv6.15.20//NONSGML v1.0//EN
CALSCALE:GREGORIAN
METHOD:PUBLISH
X-ORIGINAL-URL:https://www.diocesealex.org
X-WR-CALDESC:Events for Diocese of Alexandria
REFRESH-INTERVAL;VALUE=DURATION:PT1H
X-Robots-Tag:noindex
X-PUBLISHED-TTL:PT1H
BEGIN:VTIMEZONE
TZID:UTC
BEGIN:STANDARD
TZOFFSETFROM:+0000
TZOFFSETTO:+0000
TZNAME:UTC
DTSTART:20240101T000000
END:STANDARD
END:VTIMEZONE
BEGIN:VEVENT
DTSTART;TZID=UTC:20250903T070000
DTEND;TZID=UTC:20250903T073000
DTSTAMP:20260424T103747
CREATED:20250903T020329Z
LAST-MODIFIED:20250903T020329Z
UID:10002152-1756882800-1756884600@www.diocesealex.org
SUMMARY:Breakfast
DESCRIPTION:Today’s choices for breakfast include:  Whole grain waffles\, syrup\, diced pears\, choice of milk\, choice of juice.
URL:https://www.diocesealex.org/event/breakfast-209/
LOCATION:LA
CATEGORIES:Schools
END:VEVENT
BEGIN:VEVENT
DTSTART;TZID=UTC:20250903T110000
DTEND;TZID=UTC:20250903T130000
DTSTAMP:20260424T103747
CREATED:20250903T022620Z
LAST-MODIFIED:20250903T022852Z
UID:10002176-1756897200-1756904400@www.diocesealex.org
SUMMARY:Lunch
DESCRIPTION:Today’s choices for lunch include:  Pork roast\, rice\, seasoned green peas\, baked beans\, mixed fruit\, choice of milk.
URL:https://www.diocesealex.org/event/lunch-209/
LOCATION:LA
CATEGORIES:Schools
END:VEVENT
END:VCALENDAR