BEGIN:VCALENDAR
VERSION:2.0
PRODID:-//Diocese of Alexandria - ECPv6.15.20//NONSGML v1.0//EN
CALSCALE:GREGORIAN
METHOD:PUBLISH
X-ORIGINAL-URL:https://www.diocesealex.org
X-WR-CALDESC:Events for Diocese of Alexandria
REFRESH-INTERVAL;VALUE=DURATION:PT1H
X-Robots-Tag:noindex
X-PUBLISHED-TTL:PT1H
BEGIN:VTIMEZONE
TZID:UTC
BEGIN:STANDARD
TZOFFSETFROM:+0000
TZOFFSETTO:+0000
TZNAME:UTC
DTSTART:20240101T000000
END:STANDARD
END:VTIMEZONE
BEGIN:VEVENT
DTSTART;TZID=UTC:20250902T070000
DTEND;TZID=UTC:20250902T073000
DTSTAMP:20260424T102005
CREATED:20250903T020243Z
LAST-MODIFIED:20250903T020243Z
UID:10002151-1756796400-1756798200@www.diocesealex.org
SUMMARY:Breakfast
DESCRIPTION:Today’s choices for breakfast include:  Biscuit and applesauce\, choice of milk\, choice of juice.
URL:https://www.diocesealex.org/event/breakfast-208/
LOCATION:LA
CATEGORIES:Schools
END:VEVENT
BEGIN:VEVENT
DTSTART;TZID=UTC:20250902T110000
DTEND;TZID=UTC:20250902T130000
DTSTAMP:20260424T102005
CREATED:20250903T022504Z
LAST-MODIFIED:20250903T022517Z
UID:10002175-1756810800-1756818000@www.diocesealex.org
SUMMARY:Lunch
DESCRIPTION:Today’s choices for lunch include:  Beef & cheese nachos\, Mexican corn\, garden salad/dressing\, peaches\, sugar cookie\, choice of milk.
URL:https://www.diocesealex.org/event/lunch-208/
LOCATION:LA
CATEGORIES:Schools
END:VEVENT
END:VCALENDAR