BEGIN:VCALENDAR
VERSION:2.0
PRODID:-//Diocese of Alexandria - ECPv6.15.20//NONSGML v1.0//EN
CALSCALE:GREGORIAN
METHOD:PUBLISH
X-WR-CALNAME:Diocese of Alexandria
X-ORIGINAL-URL:https://www.diocesealex.org
X-WR-CALDESC:Events for Diocese of Alexandria
REFRESH-INTERVAL;VALUE=DURATION:PT1H
X-Robots-Tag:noindex
X-PUBLISHED-TTL:PT1H
BEGIN:VTIMEZONE
TZID:UTC
BEGIN:STANDARD
TZOFFSETFROM:+0000
TZOFFSETTO:+0000
TZNAME:UTC
DTSTART:20230101T000000
END:STANDARD
END:VTIMEZONE
BEGIN:VEVENT
DTSTART;TZID=UTC:20241213T070000
DTEND;TZID=UTC:20241213T073000
DTSTAMP:20260422T085120
CREATED:20241204T022901Z
LAST-MODIFIED:20241204T022901Z
UID:10001917-1734073200-1734075000@www.diocesealex.org
SUMMARY:Breakfast
DESCRIPTION:Today’s choices for breakfast include: Choice of cereal\, mixed fruit\, choice of milk\, choice of juice.
URL:https://www.diocesealex.org/event/breakfast-134/
LOCATION:LA
CATEGORIES:Schools
END:VEVENT
BEGIN:VEVENT
DTSTART;TZID=UTC:20241213T110000
DTEND;TZID=UTC:20241213T130000
DTSTAMP:20260422T085121
CREATED:20241204T024053Z
LAST-MODIFIED:20241204T024053Z
UID:10001930-1734087600-1734094800@www.diocesealex.org
SUMMARY:Lunch
DESCRIPTION:Today’s choices for lunch include:Beef fajita soft taco\, baby carrots\, garden salad/ranch dressing\, diced pears\, choice of milk.
URL:https://www.diocesealex.org/event/lunch-134/
LOCATION:LA
CATEGORIES:Schools
END:VEVENT
END:VCALENDAR